BEGIN:VCALENDAR
VERSION:2.0
PRODID:-//GMEX Group - ECPv6.15.15//NONSGML v1.0//EN
CALSCALE:GREGORIAN
METHOD:PUBLISH
X-WR-CALNAME:GMEX Group
X-ORIGINAL-URL:https://www.gmex-group.com
X-WR-CALDESC:Events for GMEX Group
REFRESH-INTERVAL;VALUE=DURATION:PT1H
X-Robots-Tag:noindex
X-PUBLISHED-TTL:PT1H
BEGIN:VTIMEZONE
TZID:Europe/London
BEGIN:DAYLIGHT
TZOFFSETFROM:+0000
TZOFFSETTO:+0100
TZNAME:BST
DTSTART:20230326T010000
END:DAYLIGHT
BEGIN:STANDARD
TZOFFSETFROM:+0100
TZOFFSETTO:+0000
TZNAME:GMT
DTSTART:20231029T010000
END:STANDARD
BEGIN:DAYLIGHT
TZOFFSETFROM:+0000
TZOFFSETTO:+0100
TZNAME:BST
DTSTART:20240331T010000
END:DAYLIGHT
BEGIN:STANDARD
TZOFFSETFROM:+0100
TZOFFSETTO:+0000
TZNAME:GMT
DTSTART:20241027T010000
END:STANDARD
BEGIN:DAYLIGHT
TZOFFSETFROM:+0000
TZOFFSETTO:+0100
TZNAME:BST
DTSTART:20250330T010000
END:DAYLIGHT
BEGIN:STANDARD
TZOFFSETFROM:+0100
TZOFFSETTO:+0000
TZNAME:GMT
DTSTART:20251026T010000
END:STANDARD
END:VTIMEZONE
BEGIN:VEVENT
DTSTART;VALUE=DATE:20241204
DTEND;VALUE=DATE:20241207
DTSTAMP:20260422T122248
CREATED:20241112T113748Z
LAST-MODIFIED:20241112T113748Z
UID:6787-1733270400-1733529599@www.gmex-group.com
SUMMARY:2nd  Climate Investments and Technology Impact Summit and Exhibition (CITIS 2024)
DESCRIPTION:The 2nd Annual Climate Investments and Technology Impact Summit (CITIS) focuses on innovative technology and investment solutions for climate change. This year’s theme\, “Climate Innovation: FOAK as an Asset Class\, NOAK as the Scaling Model\,” highlights the role of First-of-a-Kind (FOAK) projects in driving climate solutions and scaling them through Nth-of-a-Kind (NOAK) models. \nThe summit will include sessions on transitioning from FOAK to NOAK\, discussing relevant economic and financial models. Attendees can engage in discussions\, witness technology pitches\, and view advancements in climate technology at the poster exhibition. CITIS 2024 will take place alongside the 9th India Water Impact Summit (IWIS). \nFor more information about the event\, click here
URL:https://www.gmex-group.com/event/2nd-climate-investments-and-technology-impact-summit-and-exhibition-citis-2024/
LOCATION:Bharat Mandapam\, New Delhi\, India
END:VEVENT
END:VCALENDAR