BEGIN:VCALENDAR
VERSION:2.0
PRODID:-//GMEX Group - ECPv6.15.15//NONSGML v1.0//EN
CALSCALE:GREGORIAN
METHOD:PUBLISH
X-WR-CALNAME:GMEX Group
X-ORIGINAL-URL:https://www.gmex-group.com
X-WR-CALDESC:Events for GMEX Group
REFRESH-INTERVAL;VALUE=DURATION:PT1H
X-Robots-Tag:noindex
X-PUBLISHED-TTL:PT1H
BEGIN:VTIMEZONE
TZID:UTC
BEGIN:STANDARD
TZOFFSETFROM:+0000
TZOFFSETTO:+0000
TZNAME:UTC
DTSTART:20210101T000000
END:STANDARD
END:VTIMEZONE
BEGIN:VEVENT
DTSTART;TZID=UTC:20220707T081500
DTEND;TZID=UTC:20220707T124500
DTSTAMP:20260421T143023
CREATED:20220609T071015Z
LAST-MODIFIED:20220609T071015Z
UID:5287-1657181700-1657197900@www.gmex-group.com
SUMMARY:A-Team Innovation Briefing: Innovation in Cloud
DESCRIPTION:Hirander Misra will be speaking during the case study: Leveraging the cloud to enable CeFi institutions to access DeFi ecosystems.\n\n\n\n\nAccelerating bespoke build using cloud native technology\nIndustrialising cybersecurity with complex highly integrated cloud solutions\nBridging TradFi and new DeFi models\n\n\n\n\n\nFor more information about the event\, click here.\n\nFor the full agenda and the speakers\, click here.
URL:https://www.gmex-group.com/event/a-team-innovation-briefing-innovation-in-cloud/
LOCATION:America Square Conference Centre\, 1 America Square\, 17 Crosswall\, London\, EC3N 2LB\, United Kingdom
END:VEVENT
END:VCALENDAR