BEGIN:VCALENDAR
VERSION:2.0
PRODID:-//GMEX Group - ECPv6.15.15//NONSGML v1.0//EN
CALSCALE:GREGORIAN
METHOD:PUBLISH
X-WR-CALNAME:GMEX Group
X-ORIGINAL-URL:https://www.gmex-group.com
X-WR-CALDESC:Events for GMEX Group
REFRESH-INTERVAL;VALUE=DURATION:PT1H
X-Robots-Tag:noindex
X-PUBLISHED-TTL:PT1H
BEGIN:VTIMEZONE
TZID:Europe/London
BEGIN:DAYLIGHT
TZOFFSETFROM:+0000
TZOFFSETTO:+0100
TZNAME:BST
DTSTART:20230326T010000
END:DAYLIGHT
BEGIN:STANDARD
TZOFFSETFROM:+0100
TZOFFSETTO:+0000
TZNAME:GMT
DTSTART:20231029T010000
END:STANDARD
BEGIN:DAYLIGHT
TZOFFSETFROM:+0000
TZOFFSETTO:+0100
TZNAME:BST
DTSTART:20240331T010000
END:DAYLIGHT
BEGIN:STANDARD
TZOFFSETFROM:+0100
TZOFFSETTO:+0000
TZNAME:GMT
DTSTART:20241027T010000
END:STANDARD
BEGIN:DAYLIGHT
TZOFFSETFROM:+0000
TZOFFSETTO:+0100
TZNAME:BST
DTSTART:20250330T010000
END:DAYLIGHT
BEGIN:STANDARD
TZOFFSETFROM:+0100
TZOFFSETTO:+0000
TZNAME:GMT
DTSTART:20251026T010000
END:STANDARD
END:VTIMEZONE
BEGIN:VEVENT
DTSTART;VALUE=DATE:20241029
DTEND;VALUE=DATE:20241031
DTSTAMP:20260422T120006
CREATED:20241008T124559Z
LAST-MODIFIED:20241030T101121Z
UID:6725-1730160000-1730332799@www.gmex-group.com
SUMMARY:Africa Summit
DESCRIPTION:Africa stands at a crossroads. The continent brims with immense potential: innovative tech sectors\, a dynamic young population\, and rising global interest in its markets. Yet\, pressing challenges threaten to derail progress: climate change devastates communities\, unsustainable debt limits growth\, and lack of opportunities for youth creates social instability. The key question: How can African nations harness their strengths\, navigate global volatility\, address the climate crisis\, and unlock the power of their youth to drive sustainable\, inclusive growth? \nThe FT Africa Summit is the space where answers begin. Join our prestigious lineup of policymakers\, business leaders\, financiers and visionaries for crucial dialogues and networking on transforming Africa’s challenges into opportunities. \nFor more information about the event\, Click here
URL:https://www.gmex-group.com/event/africa-summit/
LOCATION:The Peninsula\, London
END:VEVENT
END:VCALENDAR