BEGIN:VCALENDAR
VERSION:2.0
PRODID:-//GMEX Group - ECPv6.15.15//NONSGML v1.0//EN
CALSCALE:GREGORIAN
METHOD:PUBLISH
X-WR-CALNAME:GMEX Group
X-ORIGINAL-URL:https://www.gmex-group.com
X-WR-CALDESC:Events for GMEX Group
REFRESH-INTERVAL;VALUE=DURATION:PT1H
X-Robots-Tag:noindex
X-PUBLISHED-TTL:PT1H
BEGIN:VTIMEZONE
TZID:Europe/London
BEGIN:DAYLIGHT
TZOFFSETFROM:+0000
TZOFFSETTO:+0100
TZNAME:BST
DTSTART:20230326T010000
END:DAYLIGHT
BEGIN:STANDARD
TZOFFSETFROM:+0100
TZOFFSETTO:+0000
TZNAME:GMT
DTSTART:20231029T010000
END:STANDARD
BEGIN:DAYLIGHT
TZOFFSETFROM:+0000
TZOFFSETTO:+0100
TZNAME:BST
DTSTART:20240331T010000
END:DAYLIGHT
BEGIN:STANDARD
TZOFFSETFROM:+0100
TZOFFSETTO:+0000
TZNAME:GMT
DTSTART:20241027T010000
END:STANDARD
BEGIN:DAYLIGHT
TZOFFSETFROM:+0000
TZOFFSETTO:+0100
TZNAME:BST
DTSTART:20250330T010000
END:DAYLIGHT
BEGIN:STANDARD
TZOFFSETFROM:+0100
TZOFFSETTO:+0000
TZNAME:GMT
DTSTART:20251026T010000
END:STANDARD
END:VTIMEZONE
BEGIN:VEVENT
DTSTART;VALUE=DATE:20240227
DTEND;VALUE=DATE:20240228
DTSTAMP:20260421T125214
CREATED:20240131T144836Z
LAST-MODIFIED:20240222T131439Z
UID:6047-1708992000-1709078399@www.gmex-group.com
SUMMARY:AI & Web3: Pioneering a Sustainable Future
DESCRIPTION:Finoverse and Cyberport Hong Kong are organising a flagship event called “AI & Web3: Pioneering a Sustainable Future” during the Hong Kong Green Tech Week\, hosted by the Hong Kong Government. This event is expected to attract over 2\,500 executives and industry experts from Asia and globally. \nSupported by The Office of the Government Chief Information Officer (OGCIO) and the World Green Organisation\, this inaugural summit gathers 500+ financial leaders to pioneer green fintech and discover how AI\, Web3\, and new solutions can empower people\, the economy and the planet. Hear from 30+ experts on the latest in ESG investing\, carbon trading\, sustainable blockchain applications\, and more. \nClick here for more information
URL:https://www.gmex-group.com/event/ai-web3-pioneering-a-sustainable-future/
LOCATION:Cyberport Hong Kong\, Cyberport\, Hong Kong
END:VEVENT
END:VCALENDAR