BEGIN:VCALENDAR
VERSION:2.0
PRODID:-//GMEX Group - ECPv6.15.15//NONSGML v1.0//EN
CALSCALE:GREGORIAN
METHOD:PUBLISH
X-WR-CALNAME:GMEX Group
X-ORIGINAL-URL:https://www.gmex-group.com
X-WR-CALDESC:Events for GMEX Group
REFRESH-INTERVAL;VALUE=DURATION:PT1H
X-Robots-Tag:noindex
X-PUBLISHED-TTL:PT1H
BEGIN:VTIMEZONE
TZID:Europe/London
BEGIN:DAYLIGHT
TZOFFSETFROM:+0000
TZOFFSETTO:+0100
TZNAME:BST
DTSTART:20230326T010000
END:DAYLIGHT
BEGIN:STANDARD
TZOFFSETFROM:+0100
TZOFFSETTO:+0000
TZNAME:GMT
DTSTART:20231029T010000
END:STANDARD
BEGIN:DAYLIGHT
TZOFFSETFROM:+0000
TZOFFSETTO:+0100
TZNAME:BST
DTSTART:20240331T010000
END:DAYLIGHT
BEGIN:STANDARD
TZOFFSETFROM:+0100
TZOFFSETTO:+0000
TZNAME:GMT
DTSTART:20241027T010000
END:STANDARD
BEGIN:DAYLIGHT
TZOFFSETFROM:+0000
TZOFFSETTO:+0100
TZNAME:BST
DTSTART:20250330T010000
END:DAYLIGHT
BEGIN:STANDARD
TZOFFSETFROM:+0100
TZOFFSETTO:+0000
TZNAME:GMT
DTSTART:20251026T010000
END:STANDARD
END:VTIMEZONE
BEGIN:VEVENT
DTSTART;TZID=Europe/London:20241018T140000
DTEND;TZID=Europe/London:20241018T160000
DTSTAMP:20260422T115154
CREATED:20241008T124144Z
LAST-MODIFIED:20241008T124144Z
UID:6721-1729260000-1729267200@www.gmex-group.com
SUMMARY:Are global carbon markets ready to take off and what does it mean for Singapore?
DESCRIPTION:Part 2 of the ZERO13 Roundtable Country Tour \nZERO13\, First Estate Investment and First Capital are delighted to be co-organising this gathering of great minds and conscious professionals who are looking to exchange thoughts on an increasingly important subject of carbon credits as an asset class. \nAs carbon markets grow\, mainstream banks and financial institutions have predominantly provided advisory services\, focusing on strategies like offtake agreements. Investors associated with global markets and ESG assets are assessing the opportunities ahead but are facing headwinds in the form of liquidity\, risks and standards. Many banks and financial institutions have struggled to support project owners in securing the vital financing required to advance their projects. This roundtable will delve into how alternative financing channels are stepping up as pivotal solutions to this problem and Singapore’s role as a leader in this emerging market. \nTo register your interest to attend the event\, Click here\n 
URL:https://www.gmex-group.com/event/are-global-carbon-markets-ready-to-take-off-and-what-does-it-mean-for-singapore/
LOCATION:TBC
END:VEVENT
END:VCALENDAR