BEGIN:VCALENDAR
VERSION:2.0
PRODID:-//GMEX Group - ECPv6.15.15//NONSGML v1.0//EN
CALSCALE:GREGORIAN
METHOD:PUBLISH
X-WR-CALNAME:GMEX Group
X-ORIGINAL-URL:https://www.gmex-group.com
X-WR-CALDESC:Events for GMEX Group
REFRESH-INTERVAL;VALUE=DURATION:PT1H
X-Robots-Tag:noindex
X-PUBLISHED-TTL:PT1H
BEGIN:VTIMEZONE
TZID:Europe/London
BEGIN:DAYLIGHT
TZOFFSETFROM:+0000
TZOFFSETTO:+0100
TZNAME:BST
DTSTART:20230326T010000
END:DAYLIGHT
BEGIN:STANDARD
TZOFFSETFROM:+0100
TZOFFSETTO:+0000
TZNAME:GMT
DTSTART:20231029T010000
END:STANDARD
BEGIN:DAYLIGHT
TZOFFSETFROM:+0000
TZOFFSETTO:+0100
TZNAME:BST
DTSTART:20240331T010000
END:DAYLIGHT
BEGIN:STANDARD
TZOFFSETFROM:+0100
TZOFFSETTO:+0000
TZNAME:GMT
DTSTART:20241027T010000
END:STANDARD
BEGIN:DAYLIGHT
TZOFFSETFROM:+0000
TZOFFSETTO:+0100
TZNAME:BST
DTSTART:20250330T010000
END:DAYLIGHT
BEGIN:STANDARD
TZOFFSETFROM:+0100
TZOFFSETTO:+0000
TZNAME:GMT
DTSTART:20251026T010000
END:STANDARD
END:VTIMEZONE
BEGIN:VEVENT
DTSTART;VALUE=DATE:20240527
DTEND;VALUE=DATE:20240528
DTSTAMP:20260422T114155
CREATED:20240515T124630Z
LAST-MODIFIED:20240520T063222Z
UID:6190-1716768000-1716854399@www.gmex-group.com
SUMMARY:Banking\, Innovation & Technology Summit
DESCRIPTION:Khaleej Times’ Banking\, Innovation & Technology Summit 2024 Qatar edition will unite the world’s foremost thought leaders\, innovators\, and service providers. It’s an unprecedented deep dive into the latest trends\, opportunities\, and challenges confronting the banking and fintech sectors. \nQatar’s banking realm stands as a beacon of fintech innovation\, spearheading transformative technologies and avant-garde business paradigms to cater to the evolving preferences of its clientele. Unveiling a groundbreaking narrative\, the 2023 Qatar Banking Sector report\, released on October 8\, unveils a dynamic landscape where financial institutions embrace digital metamorphosis\, underscore the pivotal role of sustainability\, and align with the government’s initiatives to nurture a robust fintech ecosystem. \nHirander Misra will be speaking. On behalf of GMEX Group and our climate fintech platform-as-a-service ZERO13 he will discuss the latest trends and innovations in the financial technology sector focused on digital Green Finance and Sustainability and is looking forward to connecting with fellow leaders and sharing insights. For more information on the BIT Summit\, please visit: https://bit.khaleejtimesevents.com/qatar
URL:https://www.gmex-group.com/event/banking-innovation-technology-summit/
LOCATION:Grand Hyatt Hotel and Villas Doha\, Pearl Blvd\, Doha\, Qatar
END:VEVENT
END:VCALENDAR