BEGIN:VCALENDAR
VERSION:2.0
PRODID:-//GMEX Group - ECPv6.15.15//NONSGML v1.0//EN
CALSCALE:GREGORIAN
METHOD:PUBLISH
X-WR-CALNAME:GMEX Group
X-ORIGINAL-URL:https://www.gmex-group.com
X-WR-CALDESC:Events for GMEX Group
REFRESH-INTERVAL;VALUE=DURATION:PT1H
X-Robots-Tag:noindex
X-PUBLISHED-TTL:PT1H
BEGIN:VTIMEZONE
TZID:Europe/London
BEGIN:DAYLIGHT
TZOFFSETFROM:+0000
TZOFFSETTO:+0100
TZNAME:BST
DTSTART:20230326T010000
END:DAYLIGHT
BEGIN:STANDARD
TZOFFSETFROM:+0100
TZOFFSETTO:+0000
TZNAME:GMT
DTSTART:20231029T010000
END:STANDARD
BEGIN:DAYLIGHT
TZOFFSETFROM:+0000
TZOFFSETTO:+0100
TZNAME:BST
DTSTART:20240331T010000
END:DAYLIGHT
BEGIN:STANDARD
TZOFFSETFROM:+0100
TZOFFSETTO:+0000
TZNAME:GMT
DTSTART:20241027T010000
END:STANDARD
BEGIN:DAYLIGHT
TZOFFSETFROM:+0000
TZOFFSETTO:+0100
TZNAME:BST
DTSTART:20250330T010000
END:DAYLIGHT
BEGIN:STANDARD
TZOFFSETFROM:+0100
TZOFFSETTO:+0000
TZNAME:GMT
DTSTART:20251026T010000
END:STANDARD
END:VTIMEZONE
BEGIN:VEVENT
DTSTART;VALUE=DATE:20240506
DTEND;VALUE=DATE:20240509
DTSTAMP:20260422T114211
CREATED:20240402T113628Z
LAST-MODIFIED:20240402T113628Z
UID:6112-1714953600-1715212799@www.gmex-group.com
SUMMARY:BIS Innovation Summit 2024
DESCRIPTION:The BIS Innovation Summit brings together global policymakers\, senior executives from the financial and technology industries\, and academics to discuss how technological innovation’s intensified speed is offering increasing opportunities to the financial sector and to central banks\, and how central banks are dealing with the risks that technological innovations may create. \nOur Chairman & CEO Hirander Misra will take part in a Technical Roundtable about Green Finance on the 8th May 2024. \nModerated by Benedicte Nolens\, Head of BIS Innovation Hub Hong Kong Centre\, and George Chou\, Chief Fintech Officer of Hong Kong Monetary Authority (HKMA)\, discussion topics include:\n▸ What are the challenges and technological solutions for central banks to achieve transparency on climate related risks in the financial system?\n▸ Which are the most promising novel technologies for green finance and how could they help? \nClick here for more information
URL:https://www.gmex-group.com/event/bis-innovation-summit-2024/
LOCATION:Basel\, Switzerland\, Basel\, Switzerland
END:VEVENT
END:VCALENDAR