BEGIN:VCALENDAR
VERSION:2.0
PRODID:-//GMEX Group - ECPv6.15.15//NONSGML v1.0//EN
CALSCALE:GREGORIAN
METHOD:PUBLISH
X-WR-CALNAME:GMEX Group
X-ORIGINAL-URL:https://www.gmex-group.com
X-WR-CALDESC:Events for GMEX Group
REFRESH-INTERVAL;VALUE=DURATION:PT1H
X-Robots-Tag:noindex
X-PUBLISHED-TTL:PT1H
BEGIN:VTIMEZONE
TZID:Europe/London
BEGIN:DAYLIGHT
TZOFFSETFROM:+0000
TZOFFSETTO:+0100
TZNAME:BST
DTSTART:20230326T010000
END:DAYLIGHT
BEGIN:STANDARD
TZOFFSETFROM:+0100
TZOFFSETTO:+0000
TZNAME:GMT
DTSTART:20231029T010000
END:STANDARD
BEGIN:DAYLIGHT
TZOFFSETFROM:+0000
TZOFFSETTO:+0100
TZNAME:BST
DTSTART:20240331T010000
END:DAYLIGHT
BEGIN:STANDARD
TZOFFSETFROM:+0100
TZOFFSETTO:+0000
TZNAME:GMT
DTSTART:20241027T010000
END:STANDARD
BEGIN:DAYLIGHT
TZOFFSETFROM:+0000
TZOFFSETTO:+0100
TZNAME:BST
DTSTART:20250330T010000
END:DAYLIGHT
BEGIN:STANDARD
TZOFFSETFROM:+0100
TZOFFSETTO:+0000
TZNAME:GMT
DTSTART:20251026T010000
END:STANDARD
END:VTIMEZONE
BEGIN:VEVENT
DTSTART;TZID=Europe/London:20240116T150000
DTEND;TZID=Europe/London:20240116T170000
DTSTAMP:20260421T130309
CREATED:20240115T081124Z
LAST-MODIFIED:20240115T083216Z
UID:6007-1705417200-1705424400@www.gmex-group.com
SUMMARY:Bridging the Gap: Strategies and Innovative Approaches to Unlocking Financing for Renewable Energy
DESCRIPTION:Our Chairman & CEO Hirander Misra has been invite to speak at the panel “Bridging the Gap: Strategies and Innovative Approaches to Unlocking Financing for Renewable Energy” taking place at the Kurdish House in Davos during the 2024 Annual Meeting of the World Economic Forum under the auspices of H.E Masrour Barzani\, Prime Minister of Kurdistan Regional Government\, Iraq and in presence of the heads of Iraq’s most prominent corporations. \nThis event where Kurdish Tea will be served is an engaging platform for economic\, business\, political\, and cultural exchanges with enlightening discussions and networking within an atmosphere of collaboration and cooperation. \nClick here for more information
URL:https://www.gmex-group.com/event/bridging-the-gap-strategies-and-innovative-approaches-to-unlocking-financing-for-renewable-energy/
LOCATION:Promenade 49\, 7270 Davos Platz\, Davos\, Swaziland
END:VEVENT
END:VCALENDAR