BEGIN:VCALENDAR
VERSION:2.0
PRODID:-//GMEX Group - ECPv6.15.15//NONSGML v1.0//EN
CALSCALE:GREGORIAN
METHOD:PUBLISH
X-WR-CALNAME:GMEX Group
X-ORIGINAL-URL:https://www.gmex-group.com
X-WR-CALDESC:Events for GMEX Group
REFRESH-INTERVAL;VALUE=DURATION:PT1H
X-Robots-Tag:noindex
X-PUBLISHED-TTL:PT1H
BEGIN:VTIMEZONE
TZID:Europe/London
BEGIN:DAYLIGHT
TZOFFSETFROM:+0000
TZOFFSETTO:+0100
TZNAME:BST
DTSTART:20220327T010000
END:DAYLIGHT
BEGIN:STANDARD
TZOFFSETFROM:+0100
TZOFFSETTO:+0000
TZNAME:GMT
DTSTART:20221030T010000
END:STANDARD
BEGIN:DAYLIGHT
TZOFFSETFROM:+0000
TZOFFSETTO:+0100
TZNAME:BST
DTSTART:20230326T010000
END:DAYLIGHT
BEGIN:STANDARD
TZOFFSETFROM:+0100
TZOFFSETTO:+0000
TZNAME:GMT
DTSTART:20231029T010000
END:STANDARD
BEGIN:DAYLIGHT
TZOFFSETFROM:+0000
TZOFFSETTO:+0100
TZNAME:BST
DTSTART:20240331T010000
END:DAYLIGHT
BEGIN:STANDARD
TZOFFSETFROM:+0100
TZOFFSETTO:+0000
TZNAME:GMT
DTSTART:20241027T010000
END:STANDARD
END:VTIMEZONE
BEGIN:VEVENT
DTSTART;TZID=Europe/London:20231115T173000
DTEND;TZID=Europe/London:20231115T203000
DTSTAMP:20260421T124755
CREATED:20231012T080116Z
LAST-MODIFIED:20231012T080116Z
UID:5904-1700069400-1700080200@www.gmex-group.com
SUMMARY:Climate Fintech Question Time
DESCRIPTION:Towards Net Zero: Leveraging Digital Finance for Climate Resilience \n\nIn the next 5-10 years\, the world faces a complex mix of interlinked challenges to ensure access to clean water\, energy and food\, upon which our collective health\, economies\, security\, and future depend. \nThe UK is well positioned to become a Climate Fintech Hub and leader in sustainable traditional and digital finance\, which would enable international investors to finance climate projects using real-world digital assets\, such as tokenised carbon credits\, via interconnected exchange trading and settlement mechanisms. \nJoin us for an evening of discussion and debate\, as we invite members of the audience to pose questions to a panel of industry experts and thought leaders about how digital finance can enhance climate resilience through interconnectivity and cross-boundary cooperation. \n\nTo register for the event\,\n\nClick here
URL:https://www.gmex-group.com/event/climate-fintech-question-time/
LOCATION:CMS\, 78 Cannon Street\, London\, EC4N 6AF\, United Kingdom
END:VEVENT
END:VCALENDAR