BEGIN:VCALENDAR
VERSION:2.0
PRODID:-//GMEX Group - ECPv6.15.15//NONSGML v1.0//EN
CALSCALE:GREGORIAN
METHOD:PUBLISH
X-WR-CALNAME:GMEX Group
X-ORIGINAL-URL:https://www.gmex-group.com
X-WR-CALDESC:Events for GMEX Group
REFRESH-INTERVAL;VALUE=DURATION:PT1H
X-Robots-Tag:noindex
X-PUBLISHED-TTL:PT1H
BEGIN:VTIMEZONE
TZID:Europe/London
BEGIN:DAYLIGHT
TZOFFSETFROM:+0000
TZOFFSETTO:+0100
TZNAME:BST
DTSTART:20230326T010000
END:DAYLIGHT
BEGIN:STANDARD
TZOFFSETFROM:+0100
TZOFFSETTO:+0000
TZNAME:GMT
DTSTART:20231029T010000
END:STANDARD
BEGIN:DAYLIGHT
TZOFFSETFROM:+0000
TZOFFSETTO:+0100
TZNAME:BST
DTSTART:20240331T010000
END:DAYLIGHT
BEGIN:STANDARD
TZOFFSETFROM:+0100
TZOFFSETTO:+0000
TZNAME:GMT
DTSTART:20241027T010000
END:STANDARD
BEGIN:DAYLIGHT
TZOFFSETFROM:+0000
TZOFFSETTO:+0100
TZNAME:BST
DTSTART:20250330T010000
END:DAYLIGHT
BEGIN:STANDARD
TZOFFSETFROM:+0100
TZOFFSETTO:+0000
TZNAME:GMT
DTSTART:20251026T010000
END:STANDARD
END:VTIMEZONE
BEGIN:VEVENT
DTSTART;VALUE=DATE:20240627
DTEND;VALUE=DATE:20240628
DTSTAMP:20260421T125000
CREATED:20240604T125851Z
LAST-MODIFIED:20240604T125851Z
UID:6208-1719446400-1719532799@www.gmex-group.com
SUMMARY:Climate Innovation Forum 2024
DESCRIPTION:As the flagship event of London Climate Action Week\, the 6th Climate Innovation Forum brings together over 1\,000 business leaders\, policy makers\, investors and civil society representatives to accelerate the speed and scale of our collective efforts in driving climate action. \nOrganised by Climate Action in collaboration with the City of London Corporation\, the Forum will focus on translating promises into tangible actions midway between COPs\, harnessing the power of London as a leading global climate hub. \nThe high-level event will champion the role of the real economy in delivering the transition\, serving as a platform for sharing the brave leadership\, innovative solutions and radical collaborations needed to bridge the yawning gaps in implementation\, investment and scaling-up of innovation.
URL:https://www.gmex-group.com/event/climate-innovation-forum-2024/
LOCATION:Guildhall\, Guildhall\, 71 Basinghall St.\, London\, EC2V 7HH\, United Kingdom
END:VEVENT
END:VCALENDAR