BEGIN:VCALENDAR
VERSION:2.0
PRODID:-//GMEX Group - ECPv6.15.15//NONSGML v1.0//EN
CALSCALE:GREGORIAN
METHOD:PUBLISH
X-WR-CALNAME:GMEX Group
X-ORIGINAL-URL:https://www.gmex-group.com
X-WR-CALDESC:Events for GMEX Group
REFRESH-INTERVAL;VALUE=DURATION:PT1H
X-Robots-Tag:noindex
X-PUBLISHED-TTL:PT1H
BEGIN:VTIMEZONE
TZID:Europe/London
BEGIN:DAYLIGHT
TZOFFSETFROM:+0000
TZOFFSETTO:+0100
TZNAME:BST
DTSTART:20230326T010000
END:DAYLIGHT
BEGIN:STANDARD
TZOFFSETFROM:+0100
TZOFFSETTO:+0000
TZNAME:GMT
DTSTART:20231029T010000
END:STANDARD
BEGIN:DAYLIGHT
TZOFFSETFROM:+0000
TZOFFSETTO:+0100
TZNAME:BST
DTSTART:20240331T010000
END:DAYLIGHT
BEGIN:STANDARD
TZOFFSETFROM:+0100
TZOFFSETTO:+0000
TZNAME:GMT
DTSTART:20241027T010000
END:STANDARD
BEGIN:DAYLIGHT
TZOFFSETFROM:+0000
TZOFFSETTO:+0100
TZNAME:BST
DTSTART:20250330T010000
END:DAYLIGHT
BEGIN:STANDARD
TZOFFSETFROM:+0100
TZOFFSETTO:+0000
TZNAME:GMT
DTSTART:20251026T010000
END:STANDARD
END:VTIMEZONE
BEGIN:VEVENT
DTSTART;TZID=Europe/London:20240805T143000
DTEND;TZID=Europe/London:20240805T170000
DTSTAMP:20260421T124845
CREATED:20240723T120754Z
LAST-MODIFIED:20240723T121041Z
UID:6594-1722868200-1722877200@www.gmex-group.com
SUMMARY:COP28 UAE TechSprint Follow-up
DESCRIPTION:As a recent COP28 TechSprint winner\, ZERO13 has been invited to a virtual roundtable focused on unleashing Blockchain to scale sustainable finance. The discussion will be facilitated by BIS Innovation Hub and will focus on how Blockchain is shaping the future of sustainable finance. This event is jointly developed by the Bank for International Settlements (BIS)\, the COP28 UAE Presidency\, the Central Bank of the United Arab Emirates (CBUAE)\, and the Emirates Institute of Finance (EIF) as a global initiative advancing innovative technology solutions to scale sustainable finance and climate action. \nAs one of the five COP28 UAE TechSprint finalists\, we will be given the opportunity to reflect on the progress made since then\, share the major milestones and achievements highlighting the recent advancements and the utilization of Blockchain in the respective ventures of TechSprint\, as well as share the outlook for blockchain in sustainable finance\, discuss the prominent applications\, enablers\, and hurdles associated with utilizing Blockchain to advance sustainable finance initiatives.
URL:https://www.gmex-group.com/event/cop28-uae-techsprint-follow-up/
END:VEVENT
END:VCALENDAR