BEGIN:VCALENDAR
VERSION:2.0
PRODID:-//GMEX Group - ECPv6.15.15//NONSGML v1.0//EN
CALSCALE:GREGORIAN
METHOD:PUBLISH
X-WR-CALNAME:GMEX Group
X-ORIGINAL-URL:https://www.gmex-group.com
X-WR-CALDESC:Events for GMEX Group
REFRESH-INTERVAL;VALUE=DURATION:PT1H
X-Robots-Tag:noindex
X-PUBLISHED-TTL:PT1H
BEGIN:VTIMEZONE
TZID:Europe/London
BEGIN:DAYLIGHT
TZOFFSETFROM:+0000
TZOFFSETTO:+0100
TZNAME:BST
DTSTART:20230326T010000
END:DAYLIGHT
BEGIN:STANDARD
TZOFFSETFROM:+0100
TZOFFSETTO:+0000
TZNAME:GMT
DTSTART:20231029T010000
END:STANDARD
BEGIN:DAYLIGHT
TZOFFSETFROM:+0000
TZOFFSETTO:+0100
TZNAME:BST
DTSTART:20240331T010000
END:DAYLIGHT
BEGIN:STANDARD
TZOFFSETFROM:+0100
TZOFFSETTO:+0000
TZNAME:GMT
DTSTART:20241027T010000
END:STANDARD
BEGIN:DAYLIGHT
TZOFFSETFROM:+0000
TZOFFSETTO:+0100
TZNAME:BST
DTSTART:20250330T010000
END:DAYLIGHT
BEGIN:STANDARD
TZOFFSETFROM:+0100
TZOFFSETTO:+0000
TZNAME:GMT
DTSTART:20251026T010000
END:STANDARD
END:VTIMEZONE
BEGIN:VEVENT
DTSTART;VALUE=DATE:20241111
DTEND;VALUE=DATE:20241123
DTSTAMP:20260422T120850
CREATED:20241017T143348Z
LAST-MODIFIED:20241017T143348Z
UID:6757-1731283200-1732319999@www.gmex-group.com
SUMMARY:COP29 Baku
DESCRIPTION:This year\, the 29th session of the Conference of the Parties to the United Nations Framework Convention on Climate Change is taking place at the Baku Stadium in Azerbaijan. Our Chairman & CEO Hirander Misra\, our Head of Business Development Emmanuel Devedeux and our Board Advisor Lincoln Teo will attend COP29 on 11-22 November 2024\, representing GMEX Group and ZERO13. They will be available in both the BLUE Zone and Green Zone for meetings and to connect with visionaries who are committed to driving positive change\, from climate action plans to groundbreaking innovations. \n \nFor more information about COP29\, click here
URL:https://www.gmex-group.com/event/cop29-baku/
LOCATION:Baku Stadium\, Azerbaijan
END:VEVENT
END:VCALENDAR