BEGIN:VCALENDAR
VERSION:2.0
PRODID:-//GMEX Group - ECPv6.15.15//NONSGML v1.0//EN
CALSCALE:GREGORIAN
METHOD:PUBLISH
X-WR-CALNAME:GMEX Group
X-ORIGINAL-URL:https://www.gmex-group.com
X-WR-CALDESC:Events for GMEX Group
REFRESH-INTERVAL;VALUE=DURATION:PT1H
X-Robots-Tag:noindex
X-PUBLISHED-TTL:PT1H
BEGIN:VTIMEZONE
TZID:Europe/London
BEGIN:DAYLIGHT
TZOFFSETFROM:+0000
TZOFFSETTO:+0100
TZNAME:BST
DTSTART:20230326T010000
END:DAYLIGHT
BEGIN:STANDARD
TZOFFSETFROM:+0100
TZOFFSETTO:+0000
TZNAME:GMT
DTSTART:20231029T010000
END:STANDARD
BEGIN:DAYLIGHT
TZOFFSETFROM:+0000
TZOFFSETTO:+0100
TZNAME:BST
DTSTART:20240331T010000
END:DAYLIGHT
BEGIN:STANDARD
TZOFFSETFROM:+0100
TZOFFSETTO:+0000
TZNAME:GMT
DTSTART:20241027T010000
END:STANDARD
BEGIN:DAYLIGHT
TZOFFSETFROM:+0000
TZOFFSETTO:+0100
TZNAME:BST
DTSTART:20250330T010000
END:DAYLIGHT
BEGIN:STANDARD
TZOFFSETFROM:+0100
TZOFFSETTO:+0000
TZNAME:GMT
DTSTART:20251026T010000
END:STANDARD
END:VTIMEZONE
BEGIN:VEVENT
DTSTART;TZID=Europe/London:20241127T170000
DTEND;TZID=Europe/London:20241127T210000
DTSTAMP:20260422T122612
CREATED:20241008T125150Z
LAST-MODIFIED:20241030T101216Z
UID:6729-1732726800-1732741200@www.gmex-group.com
SUMMARY:COP29 in Review and a Look Ahead to World Economic Forum Davos: What’s next for Climate Finance and Carbon Markets?
DESCRIPTION:Join us for a unique and interactive Question Time event hosted by ZERO13 and CMS\, where industry leaders and experts will gather to discuss the outcomes of UNFCCC COP29 in Baku\, Azerbaijan (11-22 November) and explore the future of climate investment\, carbon markets\, and climate fintech as we look ahead to the World Economic Forum Annual Meeting in Davos\, Switzerland (20–24 January 2025). This engaging debate will provide attendees with the opportunity to ask critical questions\, challenge conventional wisdom\, and collaborate on financial and technology solutions to accelerate the fight against climate change. \nThe event will be an interactive panel and audience debate\, offering diverse perspectives on how the lessons learned from COP29 will shape the next steps in climate finance and market innovation. Following the discussions\, attendees are invited to network over drinks and canapés\, offering a great opportunity to connect with professionals and thought leaders in the climate investment and climate fintech space. \nTo register your interest to attend the event\, Click here
URL:https://www.gmex-group.com/event/cop29-in-review-and-a-look-ahead-to-cop16-whats-next-for-climate-finance-and-carbon-markets/
LOCATION:CMS\, 78 Cannon Street\, London\, EC4N 6AF\, United Kingdom
END:VEVENT
END:VCALENDAR