BEGIN:VCALENDAR
VERSION:2.0
PRODID:-//GMEX Group - ECPv6.15.15//NONSGML v1.0//EN
CALSCALE:GREGORIAN
METHOD:PUBLISH
X-WR-CALNAME:GMEX Group
X-ORIGINAL-URL:https://www.gmex-group.com
X-WR-CALDESC:Events for GMEX Group
REFRESH-INTERVAL;VALUE=DURATION:PT1H
X-Robots-Tag:noindex
X-PUBLISHED-TTL:PT1H
BEGIN:VTIMEZONE
TZID:Europe/London
BEGIN:DAYLIGHT
TZOFFSETFROM:+0000
TZOFFSETTO:+0100
TZNAME:BST
DTSTART:20210328T010000
END:DAYLIGHT
BEGIN:STANDARD
TZOFFSETFROM:+0100
TZOFFSETTO:+0000
TZNAME:GMT
DTSTART:20211031T010000
END:STANDARD
BEGIN:DAYLIGHT
TZOFFSETFROM:+0000
TZOFFSETTO:+0100
TZNAME:BST
DTSTART:20220327T010000
END:DAYLIGHT
BEGIN:STANDARD
TZOFFSETFROM:+0100
TZOFFSETTO:+0000
TZNAME:GMT
DTSTART:20221030T010000
END:STANDARD
BEGIN:DAYLIGHT
TZOFFSETFROM:+0000
TZOFFSETTO:+0100
TZNAME:BST
DTSTART:20230326T010000
END:DAYLIGHT
BEGIN:STANDARD
TZOFFSETFROM:+0100
TZOFFSETTO:+0000
TZNAME:GMT
DTSTART:20231029T010000
END:STANDARD
END:VTIMEZONE
BEGIN:VEVENT
DTSTART;TZID=Europe/London:20221206T083000
DTEND;TZID=Europe/London:20221206T103000
DTSTAMP:20260421T123818
CREATED:20221117T115717Z
LAST-MODIFIED:20221117T115717Z
UID:5510-1670315400-1670322600@www.gmex-group.com
SUMMARY:December breakfast seminar: Synopsis – The Web3 year in review
DESCRIPTION:In this End of Year Review\, Memery Crystal invited our Chairman & CEO Hirander Misra amongst others to look back at the past 12 months and explore the key priorities and challenges in 2023 for business builders in the crypto\, blockchain\, and Web3 industries. The experts invited will answer a series of questions including: \n▸ Will greater regulatory certainty help build a post-Brexit climate that is positive for tech innovation?\n▸ Is neo-Twitter a chance to build a new version of the internet where users are more in control of their own data or the beginning of the end?\n▸ What happens when the next bull market comes\, driving faster growth in the new tech infrastructure alongside the greater convergence between traditional and decentralised finance?\n▸ Is the collapse of FTX a ‘Lehman Brothers moment’ for crypto and how can we rebuild trust in the market? \nFor more information about the event \nClick here
URL:https://www.gmex-group.com/event/december-breakfast-seminar-synopsis-the-web3-year-in-review/
LOCATION:Memery Crystal\, 165 Fleet Street\, London\, EC4A 2DY\, United Kingdom
END:VEVENT
END:VCALENDAR