BEGIN:VCALENDAR
VERSION:2.0
PRODID:-//GMEX Group - ECPv6.15.15//NONSGML v1.0//EN
CALSCALE:GREGORIAN
METHOD:PUBLISH
X-WR-CALNAME:GMEX Group
X-ORIGINAL-URL:https://www.gmex-group.com
X-WR-CALDESC:Events for GMEX Group
REFRESH-INTERVAL;VALUE=DURATION:PT1H
X-Robots-Tag:noindex
X-PUBLISHED-TTL:PT1H
BEGIN:VTIMEZONE
TZID:Europe/London
BEGIN:DAYLIGHT
TZOFFSETFROM:+0000
TZOFFSETTO:+0100
TZNAME:BST
DTSTART:20200329T010000
END:DAYLIGHT
BEGIN:STANDARD
TZOFFSETFROM:+0100
TZOFFSETTO:+0000
TZNAME:GMT
DTSTART:20201025T010000
END:STANDARD
BEGIN:DAYLIGHT
TZOFFSETFROM:+0000
TZOFFSETTO:+0100
TZNAME:BST
DTSTART:20210328T010000
END:DAYLIGHT
BEGIN:STANDARD
TZOFFSETFROM:+0100
TZOFFSETTO:+0000
TZNAME:GMT
DTSTART:20211031T010000
END:STANDARD
BEGIN:DAYLIGHT
TZOFFSETFROM:+0000
TZOFFSETTO:+0100
TZNAME:BST
DTSTART:20220327T010000
END:DAYLIGHT
BEGIN:STANDARD
TZOFFSETFROM:+0100
TZOFFSETTO:+0000
TZNAME:GMT
DTSTART:20221030T010000
END:STANDARD
END:VTIMEZONE
BEGIN:VEVENT
DTSTART;TZID=Europe/London:20210324T170000
DTEND;TZID=Europe/London:20210324T190000
DTSTAMP:20260421T165331
CREATED:20210323T093238Z
LAST-MODIFIED:20210323T131856Z
UID:4728-1616605200-1616612400@www.gmex-group.com
SUMMARY:Digital Assets\, NFTs\, DeFi and The Future of Global Economy and Exchanges
DESCRIPTION:Hirander Misra\, CEO of GMEX Group\, will be on the panel  to discuss all the opportunities\, challenges and consequences of the #DeFi #NFTs and #DigitalAssets disruption. \n \n  \n  \n  \n  \n  \n  \n  \n  \nJoin live here: https://bit.ly/31bFaDM
URL:https://www.gmex-group.com/event/digital-assets-nfts-defi-and-the-future-of-global-economy-and-exchanges/
END:VEVENT
END:VCALENDAR