BEGIN:VCALENDAR
VERSION:2.0
PRODID:-//GMEX Group - ECPv6.15.15//NONSGML v1.0//EN
CALSCALE:GREGORIAN
METHOD:PUBLISH
X-WR-CALNAME:GMEX Group
X-ORIGINAL-URL:https://www.gmex-group.com
X-WR-CALDESC:Events for GMEX Group
REFRESH-INTERVAL;VALUE=DURATION:PT1H
X-Robots-Tag:noindex
X-PUBLISHED-TTL:PT1H
BEGIN:VTIMEZONE
TZID:Europe/London
BEGIN:DAYLIGHT
TZOFFSETFROM:+0000
TZOFFSETTO:+0100
TZNAME:BST
DTSTART:20240331T010000
END:DAYLIGHT
BEGIN:STANDARD
TZOFFSETFROM:+0100
TZOFFSETTO:+0000
TZNAME:GMT
DTSTART:20241027T010000
END:STANDARD
BEGIN:DAYLIGHT
TZOFFSETFROM:+0000
TZOFFSETTO:+0100
TZNAME:BST
DTSTART:20250330T010000
END:DAYLIGHT
BEGIN:STANDARD
TZOFFSETFROM:+0100
TZOFFSETTO:+0000
TZNAME:GMT
DTSTART:20251026T010000
END:STANDARD
BEGIN:DAYLIGHT
TZOFFSETFROM:+0000
TZOFFSETTO:+0100
TZNAME:BST
DTSTART:20260329T010000
END:DAYLIGHT
BEGIN:STANDARD
TZOFFSETFROM:+0100
TZOFFSETTO:+0000
TZNAME:GMT
DTSTART:20261025T010000
END:STANDARD
END:VTIMEZONE
BEGIN:VEVENT
DTSTART;TZID=Europe/London:20250616T090000
DTEND;TZID=Europe/London:20250616T200000
DTSTAMP:20260422T122609
CREATED:20250612T140653Z
LAST-MODIFIED:20250612T140653Z
UID:7090-1750064400-1750104000@www.gmex-group.com
SUMMARY:Digital Money 2025 - Is It Game Over for Fiat Currency Finance?
DESCRIPTION:Hosted by Future of Finance\, this event will bring together Central Banks\, Bank\, Payment Infrastructure Organisations\, Stablecoin Issuers to discuss the future of fiat money and digital currency. Attendees will include those working in the securities\, money\, payments or foreign exchange (FX) markets\, and any users of securities\, money market\, payments and FX services. \nTopics include:\n1. Can fiat currencies survive?\n2. Can cryptocurrency displace fiat currency?\n3. Do money\, payments and credit need banks?\n4. Who will control the digital money infrastructure?\n5. Can digital money boost economic growth? \nFor more information about the event\, click here
URL:https://www.gmex-group.com/event/digital-money-2025-is-it-game-over-for-fiat-currency-finance/
LOCATION:Aon\, 122 Leadenhall Street\, London\, EC3V 4AN\, United Kingdom
END:VEVENT
END:VCALENDAR