BEGIN:VCALENDAR
VERSION:2.0
PRODID:-//GMEX Group - ECPv6.15.15//NONSGML v1.0//EN
CALSCALE:GREGORIAN
METHOD:PUBLISH
X-WR-CALNAME:GMEX Group
X-ORIGINAL-URL:https://www.gmex-group.com
X-WR-CALDESC:Events for GMEX Group
REFRESH-INTERVAL;VALUE=DURATION:PT1H
X-Robots-Tag:noindex
X-PUBLISHED-TTL:PT1H
BEGIN:VTIMEZONE
TZID:Europe/London
BEGIN:DAYLIGHT
TZOFFSETFROM:+0000
TZOFFSETTO:+0100
TZNAME:BST
DTSTART:20210328T010000
END:DAYLIGHT
BEGIN:STANDARD
TZOFFSETFROM:+0100
TZOFFSETTO:+0000
TZNAME:GMT
DTSTART:20211031T010000
END:STANDARD
BEGIN:DAYLIGHT
TZOFFSETFROM:+0000
TZOFFSETTO:+0100
TZNAME:BST
DTSTART:20220327T010000
END:DAYLIGHT
BEGIN:STANDARD
TZOFFSETFROM:+0100
TZOFFSETTO:+0000
TZNAME:GMT
DTSTART:20221030T010000
END:STANDARD
BEGIN:DAYLIGHT
TZOFFSETFROM:+0000
TZOFFSETTO:+0100
TZNAME:BST
DTSTART:20230326T010000
END:DAYLIGHT
BEGIN:STANDARD
TZOFFSETFROM:+0100
TZOFFSETTO:+0000
TZNAME:GMT
DTSTART:20231029T010000
END:STANDARD
END:VTIMEZONE
BEGIN:VEVENT
DTSTART;TZID=Europe/London:20221129T090000
DTEND;TZID=Europe/London:20221129T163000
DTSTAMP:20260421T141830
CREATED:20221018T073855Z
LAST-MODIFIED:20221028T111615Z
UID:5466-1669712400-1669739400@www.gmex-group.com
SUMMARY:Finance Connected
DESCRIPTION:Hirander Misra will talk about one of the key transformative trends happening in the financial sector during his talk\, ‘Can Traditional Finance (TradFi) and Decentralized Finance (DeFi) converge to create Hybrid Finance?’\n\nWith the advent of digital assets and blockchain solutions\, the financial services industry is inexorably moving towards Finance 4.0\, where there is increasing demand for access to a full range of digital products and services alongside more traditional offerings. As traditional finance (TradFi)\, new centralized finance (CeFi) and decentralized finance (DeFi) solutions are slowly converging\, can the era of hybrid finance (HyFi) emerge? What will this mean for the existing infrastructure on the traditional side – will fragmented elements such as banks and asset managers come together with multiple blockchain networks come together to form a cohesive whole?\nTo learn more about the event: click here.
URL:https://www.gmex-group.com/event/finance-connected/
LOCATION:Spencer Hotel\, Excise Walk\, International Financial Services Centre\, Dublin\, D01 X4C9\, Ireland
END:VEVENT
END:VCALENDAR