BEGIN:VCALENDAR
VERSION:2.0
PRODID:-//GMEX Group - ECPv6.15.15//NONSGML v1.0//EN
CALSCALE:GREGORIAN
METHOD:PUBLISH
X-WR-CALNAME:GMEX Group
X-ORIGINAL-URL:https://www.gmex-group.com
X-WR-CALDESC:Events for GMEX Group
REFRESH-INTERVAL;VALUE=DURATION:PT1H
X-Robots-Tag:noindex
X-PUBLISHED-TTL:PT1H
BEGIN:VTIMEZONE
TZID:Europe/London
BEGIN:DAYLIGHT
TZOFFSETFROM:+0000
TZOFFSETTO:+0100
TZNAME:BST
DTSTART:20240331T010000
END:DAYLIGHT
BEGIN:STANDARD
TZOFFSETFROM:+0100
TZOFFSETTO:+0000
TZNAME:GMT
DTSTART:20241027T010000
END:STANDARD
BEGIN:DAYLIGHT
TZOFFSETFROM:+0000
TZOFFSETTO:+0100
TZNAME:BST
DTSTART:20250330T010000
END:DAYLIGHT
BEGIN:STANDARD
TZOFFSETFROM:+0100
TZOFFSETTO:+0000
TZNAME:GMT
DTSTART:20251026T010000
END:STANDARD
BEGIN:DAYLIGHT
TZOFFSETFROM:+0000
TZOFFSETTO:+0100
TZNAME:BST
DTSTART:20260329T010000
END:DAYLIGHT
BEGIN:STANDARD
TZOFFSETFROM:+0100
TZOFFSETTO:+0000
TZNAME:GMT
DTSTART:20261025T010000
END:STANDARD
END:VTIMEZONE
BEGIN:VEVENT
DTSTART;VALUE=DATE:20250306
DTEND;VALUE=DATE:20250307
DTSTAMP:20260422T120308
CREATED:20250228T134603Z
LAST-MODIFIED:20250228T134603Z
UID:6936-1741219200-1741305599@www.gmex-group.com
SUMMARY:FIX Trading EMEA Trading Conference 2025
DESCRIPTION:Europe’s largest one-day electronic trading conference is returning for its 17th year in 2025 to Convene Sancroft\, St. Paul’s\, London. The EMEA Trading Conference brings the global trading community together to discuss the most pressing issues facing the institutional community and provides a neutral platform for buy-side\, sell-side\, exchanges\, vendors and regulators to share their ideas on how the community can continue to collaborate. \nOur CEO Hirander Misra will speak on the panel titled “The Future of Investment – Carbon Markets & Renewables” about the evolving world of carbon markets and renewable investments. This session will examine what’s changing\, why people will be trading carbon and what routes are becoming available to market participants. \nFor more information about the event\, click here\n 
URL:https://www.gmex-group.com/event/fix-trading-emea-trading-conference-2025/
LOCATION:Convene Sancroft\, St. Paul’s\, Paternoster Sq.\, London\, EC4M 7DQ\, United Kingdom
END:VEVENT
END:VCALENDAR