BEGIN:VCALENDAR
VERSION:2.0
PRODID:-//GMEX Group - ECPv6.15.15//NONSGML v1.0//EN
CALSCALE:GREGORIAN
METHOD:PUBLISH
X-WR-CALNAME:GMEX Group
X-ORIGINAL-URL:https://www.gmex-group.com
X-WR-CALDESC:Events for GMEX Group
REFRESH-INTERVAL;VALUE=DURATION:PT1H
X-Robots-Tag:noindex
X-PUBLISHED-TTL:PT1H
BEGIN:VTIMEZONE
TZID:Europe/London
BEGIN:DAYLIGHT
TZOFFSETFROM:+0000
TZOFFSETTO:+0100
TZNAME:BST
DTSTART:20240331T010000
END:DAYLIGHT
BEGIN:STANDARD
TZOFFSETFROM:+0100
TZOFFSETTO:+0000
TZNAME:GMT
DTSTART:20241027T010000
END:STANDARD
BEGIN:DAYLIGHT
TZOFFSETFROM:+0000
TZOFFSETTO:+0100
TZNAME:BST
DTSTART:20250330T010000
END:DAYLIGHT
BEGIN:STANDARD
TZOFFSETFROM:+0100
TZOFFSETTO:+0000
TZNAME:GMT
DTSTART:20251026T010000
END:STANDARD
BEGIN:DAYLIGHT
TZOFFSETFROM:+0000
TZOFFSETTO:+0100
TZNAME:BST
DTSTART:20260329T010000
END:DAYLIGHT
BEGIN:STANDARD
TZOFFSETFROM:+0100
TZOFFSETTO:+0000
TZNAME:GMT
DTSTART:20261025T010000
END:STANDARD
END:VTIMEZONE
BEGIN:VEVENT
DTSTART;TZID=Europe/London:20250911T133000
DTEND;TZID=Europe/London:20250911T203000
DTSTAMP:20260421T114259
CREATED:20250715T101105Z
LAST-MODIFIED:20250715T101105Z
UID:7114-1757597400-1757622600@www.gmex-group.com
SUMMARY:Future of Finance Carbon Credits 2025
DESCRIPTION:The voluntary carbon market is at a pivotal moment: legal and compliance structures are evolving rapidly\, but fragmented regulations and political interests hinder standardisation. Key frameworks like Article 6 and ICVCM are beginning to shape best practices\, yet challenges remain in harmonising rules across regions. Overcoming political and structural barriers will require multilateral coordination\, incentives for alignment\, and the development of trusted governance structures. Standardisation is essential for scale\, integrity\, and investor confidence — and will define the next phase of market maturity. \nOur Chairman & CEO Hirander Misra has been invited to speak on the opening panel: “How can we restore trust in carbon markets by addressing greenwashing\, project validation\, and post-trade efficiencies?” \nFor more information about the event\, click here
URL:https://www.gmex-group.com/event/future-of-finance-carbon-credits-2025/
LOCATION:CMS\, 78 Cannon Street\, London\, EC4N 6AF\, United Kingdom
END:VEVENT
END:VCALENDAR