BEGIN:VCALENDAR
VERSION:2.0
PRODID:-//GMEX Group - ECPv6.15.15//NONSGML v1.0//EN
CALSCALE:GREGORIAN
METHOD:PUBLISH
X-WR-CALNAME:GMEX Group
X-ORIGINAL-URL:https://www.gmex-group.com
X-WR-CALDESC:Events for GMEX Group
REFRESH-INTERVAL;VALUE=DURATION:PT1H
X-Robots-Tag:noindex
X-PUBLISHED-TTL:PT1H
BEGIN:VTIMEZONE
TZID:Europe/London
BEGIN:DAYLIGHT
TZOFFSETFROM:+0000
TZOFFSETTO:+0100
TZNAME:BST
DTSTART:20220327T010000
END:DAYLIGHT
BEGIN:STANDARD
TZOFFSETFROM:+0100
TZOFFSETTO:+0000
TZNAME:GMT
DTSTART:20221030T010000
END:STANDARD
BEGIN:DAYLIGHT
TZOFFSETFROM:+0000
TZOFFSETTO:+0100
TZNAME:BST
DTSTART:20230326T010000
END:DAYLIGHT
BEGIN:STANDARD
TZOFFSETFROM:+0100
TZOFFSETTO:+0000
TZNAME:GMT
DTSTART:20231029T010000
END:STANDARD
BEGIN:DAYLIGHT
TZOFFSETFROM:+0000
TZOFFSETTO:+0100
TZNAME:BST
DTSTART:20240331T010000
END:DAYLIGHT
BEGIN:STANDARD
TZOFFSETFROM:+0100
TZOFFSETTO:+0000
TZNAME:GMT
DTSTART:20241027T010000
END:STANDARD
END:VTIMEZONE
BEGIN:VEVENT
DTSTART;VALUE=DATE:20231128
DTEND;VALUE=DATE:20231129
DTSTAMP:20260421T143348
CREATED:20231124T135929Z
LAST-MODIFIED:20231124T135929Z
UID:5964-1701129600-1701215999@www.gmex-group.com
SUMMARY:G20 India Climate and Energy Transition Finance Summit
DESCRIPTION:The Climate and Energy Transition Finance Summit serves as a global platform for ground-breaking financing paradigms\, enabling nations in the global south to fulfil their Nationally Determined Contributions (NDCs) in their journey towards a net-zero future. Recognizing the need for unprecedented funding\, this summit redefines the financing landscape. Despite developed countries nearing their commitment of providing $100 billion annually to developing nations\, the G20 Delhi Declaration calls for a paradigm shift. It proposes establishing a New Collective Quantified Goal (NCQG) beyond 2024\, emphasizing that $100 billion is merely the starting point\, not the limit.\n\nRepresenting GMEX Group and ZERO13\, our Chairman & CEO Hirander Misra has been invited to join Session 5: Financing Carbon and Green Credits – Accelerating the Green Transition.
URL:https://www.gmex-group.com/event/g20-india-climate-and-energy-transition-finance-summit/
LOCATION:Shangri-La Eros\, 19\, Ashoka Rd\, Janpath\, Connaught Place\, New Delhi\, 110001\, India
END:VEVENT
END:VCALENDAR