BEGIN:VCALENDAR
VERSION:2.0
PRODID:-//GMEX Group - ECPv6.15.15//NONSGML v1.0//EN
CALSCALE:GREGORIAN
METHOD:PUBLISH
X-WR-CALNAME:GMEX Group
X-ORIGINAL-URL:https://www.gmex-group.com
X-WR-CALDESC:Events for GMEX Group
REFRESH-INTERVAL;VALUE=DURATION:PT1H
X-Robots-Tag:noindex
X-PUBLISHED-TTL:PT1H
BEGIN:VTIMEZONE
TZID:Europe/London
BEGIN:DAYLIGHT
TZOFFSETFROM:+0000
TZOFFSETTO:+0100
TZNAME:BST
DTSTART:20220327T010000
END:DAYLIGHT
BEGIN:STANDARD
TZOFFSETFROM:+0100
TZOFFSETTO:+0000
TZNAME:GMT
DTSTART:20221030T010000
END:STANDARD
BEGIN:DAYLIGHT
TZOFFSETFROM:+0000
TZOFFSETTO:+0100
TZNAME:BST
DTSTART:20230326T010000
END:DAYLIGHT
BEGIN:STANDARD
TZOFFSETFROM:+0100
TZOFFSETTO:+0000
TZNAME:GMT
DTSTART:20231029T010000
END:STANDARD
BEGIN:DAYLIGHT
TZOFFSETFROM:+0000
TZOFFSETTO:+0100
TZNAME:BST
DTSTART:20240331T010000
END:DAYLIGHT
BEGIN:STANDARD
TZOFFSETFROM:+0100
TZOFFSETTO:+0000
TZNAME:GMT
DTSTART:20241027T010000
END:STANDARD
END:VTIMEZONE
BEGIN:VEVENT
DTSTART;VALUE=DATE:20230126
DTEND;VALUE=DATE:20230127
DTSTAMP:20260421T125421
CREATED:20220908T100023Z
LAST-MODIFIED:20230118T072713Z
UID:5409-1674691200-1674777599@www.gmex-group.com
SUMMARY:GMEX and AFM full day workshop: Digital Transformation of Markets
DESCRIPTION:GMEX Group (GMEX) and the Association of Futures Markets (AFM) full day joint workshop on the Digital Transformation of Markets to be held in Dubai on 26th January 2023. \nAs digital markets continue to evolve\, there is a need for market practitioners to understand and focus on how digital and traditional markets can co-exist. Digital transformation must be embraced by traditional exchanges as well as market participants to avoid losing relevance and\, in some cases\, disappearing altogether. \nOur one-day workshop will provide a high-level view of the key areas to consider using real-world experiences\, cover current and future market infrastructure trends and look at topics\, including: \n• Key opportunities for digitally enabled growth in MENA and internationally\n• The evolution of technology and market infrastructure\n• Interoperability between TradFi\, CeFi and DeFi\n• Possibilities presented by alternative asset classes such as digital assets \nClick here for a detailed agenda\n\nSponsored by:\n• CQG\n• ICDX\n• JSE \nOur Event Partners:\n• UAEFMA\n• The Realization Group \nOur Media Partners:\n• Fintechorama\n• Institutional Asset Manager\n• IntelligentHQ\n• InvestOrama\n• Hedge Think\n• SmartMoneyMatch \nOur Association & Industry Partners:\n• ACI\n• CitiesABC\n• D2A2\n• Decarbonize\n• FEAS\n• FIA\n• Open Business Council\n• TechABC\n• Ztudium \nClick here for sponsorship information\n\nTo register your interest to attend\, please fill out the form below. Registration will be confirmed in due course as it is intended for senior representatives from family offices\, institutional investors\, asset managers\, banks\, brokers\, custodians\, exchanges\, private equity firms and venture capital firms.\nLoading…
URL:https://www.gmex-group.com/event/gmex-and-afm-full-day-workshop-digital-transformation-of-markets/
LOCATION:Dubai\, UAE
END:VEVENT
END:VCALENDAR