BEGIN:VCALENDAR
VERSION:2.0
PRODID:-//GMEX Group - ECPv6.15.15//NONSGML v1.0//EN
CALSCALE:GREGORIAN
METHOD:PUBLISH
X-WR-CALNAME:GMEX Group
X-ORIGINAL-URL:https://www.gmex-group.com
X-WR-CALDESC:Events for GMEX Group
REFRESH-INTERVAL;VALUE=DURATION:PT1H
X-Robots-Tag:noindex
X-PUBLISHED-TTL:PT1H
BEGIN:VTIMEZONE
TZID:Europe/London
BEGIN:DAYLIGHT
TZOFFSETFROM:+0000
TZOFFSETTO:+0100
TZNAME:BST
DTSTART:20210328T010000
END:DAYLIGHT
BEGIN:STANDARD
TZOFFSETFROM:+0100
TZOFFSETTO:+0000
TZNAME:GMT
DTSTART:20211031T010000
END:STANDARD
BEGIN:DAYLIGHT
TZOFFSETFROM:+0000
TZOFFSETTO:+0100
TZNAME:BST
DTSTART:20220327T010000
END:DAYLIGHT
BEGIN:STANDARD
TZOFFSETFROM:+0100
TZOFFSETTO:+0000
TZNAME:GMT
DTSTART:20221030T010000
END:STANDARD
BEGIN:DAYLIGHT
TZOFFSETFROM:+0000
TZOFFSETTO:+0100
TZNAME:BST
DTSTART:20230326T010000
END:DAYLIGHT
BEGIN:STANDARD
TZOFFSETFROM:+0100
TZOFFSETTO:+0000
TZNAME:GMT
DTSTART:20231029T010000
END:STANDARD
END:VTIMEZONE
BEGIN:VEVENT
DTSTART;VALUE=DATE:20220908
DTEND;VALUE=DATE:20220909
DTSTAMP:20260421T142851
CREATED:20221213T114343Z
LAST-MODIFIED:20221213T114343Z
UID:5548-1662595200-1662681599@www.gmex-group.com
SUMMARY:GMEX Group's 10th Birthday Event
DESCRIPTION:We are celebrating our 10th birthday and over a decade of blockchain with an evening of blockchain discussions\, conversation and networking.  \nWe have come a long way and we are looking forward to more events planned later in the year as we continue to focus on the evolution of the #digitalassetinfrastructure space and its interoperability with existing traditional financial #marketinfrastructure for exchanges\, post-trade operators\, buy-side institutions\, sell-side firms including banks and corporate entities. The event will feature two panels for a thought-provoking symposium about digital assets and ESG.
URL:https://www.gmex-group.com/event/gmex-groups-10th-birthday-event/
LOCATION:CMS\, 78 Cannon Street\, London\, EC4N 6AF\, United Kingdom
END:VEVENT
END:VCALENDAR