BEGIN:VCALENDAR
VERSION:2.0
PRODID:-//GMEX Group - ECPv6.15.15//NONSGML v1.0//EN
CALSCALE:GREGORIAN
METHOD:PUBLISH
X-WR-CALNAME:GMEX Group
X-ORIGINAL-URL:https://www.gmex-group.com
X-WR-CALDESC:Events for GMEX Group
REFRESH-INTERVAL;VALUE=DURATION:PT1H
X-Robots-Tag:noindex
X-PUBLISHED-TTL:PT1H
BEGIN:VTIMEZONE
TZID:Europe/London
BEGIN:DAYLIGHT
TZOFFSETFROM:+0000
TZOFFSETTO:+0100
TZNAME:BST
DTSTART:20230326T010000
END:DAYLIGHT
BEGIN:STANDARD
TZOFFSETFROM:+0100
TZOFFSETTO:+0000
TZNAME:GMT
DTSTART:20231029T010000
END:STANDARD
BEGIN:DAYLIGHT
TZOFFSETFROM:+0000
TZOFFSETTO:+0100
TZNAME:BST
DTSTART:20240331T010000
END:DAYLIGHT
BEGIN:STANDARD
TZOFFSETFROM:+0100
TZOFFSETTO:+0000
TZNAME:GMT
DTSTART:20241027T010000
END:STANDARD
BEGIN:DAYLIGHT
TZOFFSETFROM:+0000
TZOFFSETTO:+0100
TZNAME:BST
DTSTART:20250330T010000
END:DAYLIGHT
BEGIN:STANDARD
TZOFFSETFROM:+0100
TZOFFSETTO:+0000
TZNAME:GMT
DTSTART:20251026T010000
END:STANDARD
END:VTIMEZONE
BEGIN:VEVENT
DTSTART;VALUE=DATE:20240418
DTEND;VALUE=DATE:20240419
DTSTAMP:20260422T120138
CREATED:20240408T155332Z
LAST-MODIFIED:20240408T155332Z
UID:6138-1713398400-1713484799@www.gmex-group.com
SUMMARY:Green IO Conference
DESCRIPTION:Apidays Singapore and the Green IO podcast have partnered to bring you the latest insights from thought leaders in Tech Sustainability and hands-on feedback from practitioners scaling Green IT. \nGreat hopes have been placed in IT and Digital Technologies to support our transition towards a low-carbon economy\, but the digital sector itself emits as many greenhouse gases as the world’s entire road freight. Let’s make sure we clean our own house while helping to make the world a better place! \nHosted by Apidays\, Green IO Singapore takes place on 18th April 2024 in The Arts House at The Old Parliament. Whether you are a seasoned sustainability advocate or someone new in this field\, this event is your go-to place to decarbonize your tech stack. Expect candid conversations between practitioners and leaders alike; building bridges is in the DNA of Green IO. \nClick here for more information
URL:https://www.gmex-group.com/event/green-io-conference/
LOCATION:The Arts House at The Old Parliament\, Singapore
END:VEVENT
END:VCALENDAR