BEGIN:VCALENDAR
VERSION:2.0
PRODID:-//GMEX Group - ECPv6.15.15//NONSGML v1.0//EN
CALSCALE:GREGORIAN
METHOD:PUBLISH
X-WR-CALNAME:GMEX Group
X-ORIGINAL-URL:https://www.gmex-group.com
X-WR-CALDESC:Events for GMEX Group
REFRESH-INTERVAL;VALUE=DURATION:PT1H
X-Robots-Tag:noindex
X-PUBLISHED-TTL:PT1H
BEGIN:VTIMEZONE
TZID:Europe/London
BEGIN:DAYLIGHT
TZOFFSETFROM:+0000
TZOFFSETTO:+0100
TZNAME:BST
DTSTART:20240331T010000
END:DAYLIGHT
BEGIN:STANDARD
TZOFFSETFROM:+0100
TZOFFSETTO:+0000
TZNAME:GMT
DTSTART:20241027T010000
END:STANDARD
BEGIN:DAYLIGHT
TZOFFSETFROM:+0000
TZOFFSETTO:+0100
TZNAME:BST
DTSTART:20250330T010000
END:DAYLIGHT
BEGIN:STANDARD
TZOFFSETFROM:+0100
TZOFFSETTO:+0000
TZNAME:GMT
DTSTART:20251026T010000
END:STANDARD
BEGIN:DAYLIGHT
TZOFFSETFROM:+0000
TZOFFSETTO:+0100
TZNAME:BST
DTSTART:20260329T010000
END:DAYLIGHT
BEGIN:STANDARD
TZOFFSETFROM:+0100
TZOFFSETTO:+0000
TZNAME:GMT
DTSTART:20261025T010000
END:STANDARD
END:VTIMEZONE
BEGIN:VEVENT
DTSTART;VALUE=DATE:20250520
DTEND;VALUE=DATE:20250523
DTSTAMP:20260422T120444
CREATED:20250228T135137Z
LAST-MODIFIED:20250228T135137Z
UID:6939-1747699200-1747958399@www.gmex-group.com
SUMMARY:GreenTech Festival 2025
DESCRIPTION:The GREENTECH FESTIVAL is where sustainability drives business success\, innovation meets cutting-edge technology\, and changemakers come together to shape a greener future. Connect with industry leaders\, discover the latest in green tech\, and join a global community dedicated to turning sustainability into business opportunities and transformative change. \nOur CEO Hirander Misra has been invited to speak on the panel “‘Beyond Carbon: Why Biodiversity Trumps Carbon as the KPI of the Future.” Carbon reduction has dominated sustainability KPIs\, but measuring and accounting for biodiversity may be far more important in the future. This session argues why protecting ecosystems should be the next major metric for business success and how companies can integrate it into their strategies. \nFor more information about the event\, click here\n 
URL:https://www.gmex-group.com/event/greentech-festival-2025/
LOCATION:Messegelände Funkturm\, Hammarskjöldpl.\, Berlin\, 14055\, Germany
END:VEVENT
END:VCALENDAR