BEGIN:VCALENDAR
VERSION:2.0
PRODID:-//GMEX Group - ECPv6.15.15//NONSGML v1.0//EN
CALSCALE:GREGORIAN
METHOD:PUBLISH
X-WR-CALNAME:GMEX Group
X-ORIGINAL-URL:https://www.gmex-group.com
X-WR-CALDESC:Events for GMEX Group
REFRESH-INTERVAL;VALUE=DURATION:PT1H
X-Robots-Tag:noindex
X-PUBLISHED-TTL:PT1H
BEGIN:VTIMEZONE
TZID:Europe/London
BEGIN:DAYLIGHT
TZOFFSETFROM:+0000
TZOFFSETTO:+0100
TZNAME:BST
DTSTART:20230326T010000
END:DAYLIGHT
BEGIN:STANDARD
TZOFFSETFROM:+0100
TZOFFSETTO:+0000
TZNAME:GMT
DTSTART:20231029T010000
END:STANDARD
BEGIN:DAYLIGHT
TZOFFSETFROM:+0000
TZOFFSETTO:+0100
TZNAME:BST
DTSTART:20240331T010000
END:DAYLIGHT
BEGIN:STANDARD
TZOFFSETFROM:+0100
TZOFFSETTO:+0000
TZNAME:GMT
DTSTART:20241027T010000
END:STANDARD
BEGIN:DAYLIGHT
TZOFFSETFROM:+0000
TZOFFSETTO:+0100
TZNAME:BST
DTSTART:20250330T010000
END:DAYLIGHT
BEGIN:STANDARD
TZOFFSETFROM:+0100
TZOFFSETTO:+0000
TZNAME:GMT
DTSTART:20251026T010000
END:STANDARD
END:VTIMEZONE
BEGIN:VEVENT
DTSTART;VALUE=DATE:20241021
DTEND;VALUE=DATE:20241024
DTSTAMP:20260422T173040
CREATED:20241011T122620Z
LAST-MODIFIED:20241011T122802Z
UID:6749-1729468800-1729727999@www.gmex-group.com
SUMMARY:GreenTech Festival Singapore
DESCRIPTION:Tear down\, rethink\, rebuild for tomorrow. These are words fit for a revolution\, and perhaps at this stage\, a revolution is exactly what we need! We must radically rethink our entire system. The way we do business\, the way we interact\, our values and even our individual and collective aspirations. Let’s rebuild with compassion. Create systems that leave nobody behind\, that give back more than they take\, and are in balance and in harmony with nature\, who has supported life on our planet for more than 3.5 Billion years. These are monumental tasks standing before us. But we must start now. To achieve a better world we need fearless creators\, brave leaders\, and we need to connect. Together we can change the world\, each other and ourselves. Join GTF Connect Singapore and become part of the revolution. \nOur Chairman & CEO Hirander Misra has been invited to speak on the main stage on Tuesday 22nd October for the panel ‘Will tech solve the carbon market trust crisis?’. The carbon market faces a trust crisis due to concerns over transparency\, greenwashing\, and the integrity of carbon offset projects. Technology could offer solutions by enhancing accountability and trust. Blockchain\, for example\, can create transparent records of carbon credits\, while AI and satellite monitoring improve the verification of emissions reductions. However\, while tech has the potential to increase confidence in the carbon market\, it must be combined with stronger regulations and global standards to truly address the underlying issues. \n \nFor more information about the event\, click here
URL:https://www.gmex-group.com/event/greentech-festival-singapore/
LOCATION:Sofitel Singapore Sentosa\, 2 Bukit Manis Rd\, Sentosa\, 099891\, Singapore
END:VEVENT
END:VCALENDAR