BEGIN:VCALENDAR
VERSION:2.0
PRODID:-//GMEX Group - ECPv6.15.15//NONSGML v1.0//EN
CALSCALE:GREGORIAN
METHOD:PUBLISH
X-WR-CALNAME:GMEX Group
X-ORIGINAL-URL:https://www.gmex-group.com
X-WR-CALDESC:Events for GMEX Group
REFRESH-INTERVAL;VALUE=DURATION:PT1H
X-Robots-Tag:noindex
X-PUBLISHED-TTL:PT1H
BEGIN:VTIMEZONE
TZID:Europe/London
BEGIN:DAYLIGHT
TZOFFSETFROM:+0000
TZOFFSETTO:+0100
TZNAME:BST
DTSTART:20240331T010000
END:DAYLIGHT
BEGIN:STANDARD
TZOFFSETFROM:+0100
TZOFFSETTO:+0000
TZNAME:GMT
DTSTART:20241027T010000
END:STANDARD
BEGIN:DAYLIGHT
TZOFFSETFROM:+0000
TZOFFSETTO:+0100
TZNAME:BST
DTSTART:20250330T010000
END:DAYLIGHT
BEGIN:STANDARD
TZOFFSETFROM:+0100
TZOFFSETTO:+0000
TZNAME:GMT
DTSTART:20251026T010000
END:STANDARD
BEGIN:DAYLIGHT
TZOFFSETFROM:+0000
TZOFFSETTO:+0100
TZNAME:BST
DTSTART:20260329T010000
END:DAYLIGHT
BEGIN:STANDARD
TZOFFSETFROM:+0100
TZOFFSETTO:+0000
TZNAME:GMT
DTSTART:20261025T010000
END:STANDARD
END:VTIMEZONE
BEGIN:VEVENT
DTSTART;VALUE=DATE:20250514
DTEND;VALUE=DATE:20250517
DTSTAMP:20260422T114941
CREATED:20250425T145644Z
LAST-MODIFIED:20250425T145718Z
UID:7031-1747180800-1747439999@www.gmex-group.com
SUMMARY:India Nordic Dialogue for Investments in Climate Action - Oslo
DESCRIPTION:The India Nordic Dialogue for Investments in Climate Action (INDICA) will officially launch in Oslo\, Norway this May\, in the margins of the 3rd India-Nordic Summit. This timely initiative aims to forge a dynamic and enduring alliance between India and the Nordic countries\, focusing on accelerating climate investments in one of the world’s fastest-growing green economies. INDICA will serve as a dedicated platform for engagement between Nordic investors and Indian policymakers\, project developers\, and financial institutions. This direct interface is critical to demystifying India’s regulatory frameworks\, building confidence among investors\, and forging long-term partnerships. \nFor more information about the event\, click here\n 
URL:https://www.gmex-group.com/event/india-nordic-dialogue-for-investments-in-climate-action-2/
LOCATION:Oslo\, Norway
END:VEVENT
END:VCALENDAR