BEGIN:VCALENDAR
VERSION:2.0
PRODID:-//GMEX Group - ECPv6.15.15//NONSGML v1.0//EN
CALSCALE:GREGORIAN
METHOD:PUBLISH
X-WR-CALNAME:GMEX Group
X-ORIGINAL-URL:https://www.gmex-group.com
X-WR-CALDESC:Events for GMEX Group
REFRESH-INTERVAL;VALUE=DURATION:PT1H
X-Robots-Tag:noindex
X-PUBLISHED-TTL:PT1H
BEGIN:VTIMEZONE
TZID:Europe/London
BEGIN:DAYLIGHT
TZOFFSETFROM:+0000
TZOFFSETTO:+0100
TZNAME:BST
DTSTART:20230326T010000
END:DAYLIGHT
BEGIN:STANDARD
TZOFFSETFROM:+0100
TZOFFSETTO:+0000
TZNAME:GMT
DTSTART:20231029T010000
END:STANDARD
BEGIN:DAYLIGHT
TZOFFSETFROM:+0000
TZOFFSETTO:+0100
TZNAME:BST
DTSTART:20240331T010000
END:DAYLIGHT
BEGIN:STANDARD
TZOFFSETFROM:+0100
TZOFFSETTO:+0000
TZNAME:GMT
DTSTART:20241027T010000
END:STANDARD
BEGIN:DAYLIGHT
TZOFFSETFROM:+0000
TZOFFSETTO:+0100
TZNAME:BST
DTSTART:20250330T010000
END:DAYLIGHT
BEGIN:STANDARD
TZOFFSETFROM:+0100
TZOFFSETTO:+0000
TZNAME:GMT
DTSTART:20251026T010000
END:STANDARD
END:VTIMEZONE
BEGIN:VEVENT
DTSTART;VALUE=DATE:20241113
DTEND;VALUE=DATE:20241114
DTSTAMP:20260422T122612
CREATED:20241112T113431Z
LAST-MODIFIED:20241112T113431Z
UID:6783-1731456000-1731542399@www.gmex-group.com
SUMMARY:Is Article 6.2 ITMO trading ready to take off and what does it mean for Ghana in the context of Singapore and beyond?
DESCRIPTION:ZERO13\, in collaboration with Ghana’s Environmental Protection Agency\, is proud to be hosting an insightful panel on Article 6.2 and the potential of ITMO trading as a transformative tool in global carbon markets. The discussion will explore Ghana’s pioneering role in exporting ITMOs and its groundbreaking partnership with Singapore\, operationalised through the ZERO13 Global ITMO Trading Hub. Through policy\, finance\, and innovative digital infrastructure\, Ghana and Singapore are addressing key market challenges to establish high-integrity carbon trading systems that enhance transparency and scalability. Speakers include representatives from Ghana’s Environmental Protection Agency\, Singapore’s National Climate Change Secretariat\, and ZERO13’s CEO\, Hirander Misra. \nThis session will set the stage for impactful climate finance solutions\, positioning ITMOs as a practical\, scalable asset class on a global level.
URL:https://www.gmex-group.com/event/is-article-6-2-itmo-trading-ready-to-take-off-and-what-does-it-mean-for-ghana-in-the-context-of-singapore-and-beyond/
LOCATION:The Ghana Pavillion\, COP29 Blue Zone\, Baku Stadium\, Azerbaijan
END:VEVENT
END:VCALENDAR