BEGIN:VCALENDAR
VERSION:2.0
PRODID:-//GMEX Group - ECPv6.15.15//NONSGML v1.0//EN
CALSCALE:GREGORIAN
METHOD:PUBLISH
X-WR-CALNAME:GMEX Group
X-ORIGINAL-URL:https://www.gmex-group.com
X-WR-CALDESC:Events for GMEX Group
REFRESH-INTERVAL;VALUE=DURATION:PT1H
X-Robots-Tag:noindex
X-PUBLISHED-TTL:PT1H
BEGIN:VTIMEZONE
TZID:Europe/London
BEGIN:DAYLIGHT
TZOFFSETFROM:+0000
TZOFFSETTO:+0100
TZNAME:BST
DTSTART:20240331T010000
END:DAYLIGHT
BEGIN:STANDARD
TZOFFSETFROM:+0100
TZOFFSETTO:+0000
TZNAME:GMT
DTSTART:20241027T010000
END:STANDARD
BEGIN:DAYLIGHT
TZOFFSETFROM:+0000
TZOFFSETTO:+0100
TZNAME:BST
DTSTART:20250330T010000
END:DAYLIGHT
BEGIN:STANDARD
TZOFFSETFROM:+0100
TZOFFSETTO:+0000
TZNAME:GMT
DTSTART:20251026T010000
END:STANDARD
BEGIN:DAYLIGHT
TZOFFSETFROM:+0000
TZOFFSETTO:+0100
TZNAME:BST
DTSTART:20260329T010000
END:DAYLIGHT
BEGIN:STANDARD
TZOFFSETFROM:+0100
TZOFFSETTO:+0000
TZNAME:GMT
DTSTART:20261025T010000
END:STANDARD
END:VTIMEZONE
BEGIN:VEVENT
DTSTART;VALUE=DATE:20250915
DTEND;VALUE=DATE:20250920
DTSTAMP:20260422T120359
CREATED:20250901T055825Z
LAST-MODIFIED:20250901T055825Z
UID:7164-1757894400-1758326399@www.gmex-group.com
SUMMARY:LHoFT Catapult: Green Fintech 2025
DESCRIPTION:The Catapult: Green Fintech program is a dynamic one-week bootcamp tailored for green fintech firms. Powered by the LHoFT and sponsored by the Luxembourg Ministry of Finance\, Catapult: Green Fintech program is a dynamic one-week bootcamp tailored for Seed & Post-Seed Fintech firms aspiring to drive financial innovation while making a meaningful environmental impact. Co-facilitated by LSFI\, the Luxembourg Sustainable Finance Initiative\, this program is run with robust collaboration from exclusive partners in the Luxembourg green financial services ecosystem. \nZERO13 has been selected as one of the 10 innovative startups selected from around the globe to participate in the week-long bootcamp to deliver innovative solutions. This unique program is designed to: \n\nAccelerate fintech solutions that power sustainable finance\nAdvance ESG innovation\nStrengthen climate resilience worldwide.\n\nFor more information about the event\, click here\n 
URL:https://www.gmex-group.com/event/lhoft-catapult-green-fintech-2025/
LOCATION:LHoFT\, 9 Rue du Laboratoire\, 1911 Gare\, Luxembourg
END:VEVENT
END:VCALENDAR