BEGIN:VCALENDAR
VERSION:2.0
PRODID:-//GMEX Group - ECPv6.15.15//NONSGML v1.0//EN
CALSCALE:GREGORIAN
METHOD:PUBLISH
X-WR-CALNAME:GMEX Group
X-ORIGINAL-URL:https://www.gmex-group.com
X-WR-CALDESC:Events for GMEX Group
REFRESH-INTERVAL;VALUE=DURATION:PT1H
X-Robots-Tag:noindex
X-PUBLISHED-TTL:PT1H
BEGIN:VTIMEZONE
TZID:Europe/London
BEGIN:DAYLIGHT
TZOFFSETFROM:+0000
TZOFFSETTO:+0100
TZNAME:BST
DTSTART:20220327T010000
END:DAYLIGHT
BEGIN:STANDARD
TZOFFSETFROM:+0100
TZOFFSETTO:+0000
TZNAME:GMT
DTSTART:20221030T010000
END:STANDARD
BEGIN:DAYLIGHT
TZOFFSETFROM:+0000
TZOFFSETTO:+0100
TZNAME:BST
DTSTART:20230326T010000
END:DAYLIGHT
BEGIN:STANDARD
TZOFFSETFROM:+0100
TZOFFSETTO:+0000
TZNAME:GMT
DTSTART:20231029T010000
END:STANDARD
BEGIN:DAYLIGHT
TZOFFSETFROM:+0000
TZOFFSETTO:+0100
TZNAME:BST
DTSTART:20240331T010000
END:DAYLIGHT
BEGIN:STANDARD
TZOFFSETFROM:+0100
TZOFFSETTO:+0000
TZNAME:GMT
DTSTART:20241027T010000
END:STANDARD
END:VTIMEZONE
BEGIN:VEVENT
DTSTART;VALUE=DATE:20230531
DTEND;VALUE=DATE:20230603
DTSTAMP:20260421T125015
CREATED:20230511T072747Z
LAST-MODIFIED:20230511T072747Z
UID:5696-1685491200-1685750399@www.gmex-group.com
SUMMARY:London Blockchain Conference
DESCRIPTION:The London Blockchain Conference is a great opportunity to acquire an unfair advantage\, tilt the playing field and gain access to the latest innovations\, tools\, and experts that are shaping the future of blockchain technology adoption and Web3 transformation in Europe and beyond. Join our Chairman & CEO Hirander Misra\, who will feature as a speaker alongside Richard Baker of Tokenovate at 15:55. \nFor more information\,\nClick here
URL:https://www.gmex-group.com/event/london-blockchain-conference/
LOCATION:QE2 centre\, QE2 Centre\, London\, United Kingdom
END:VEVENT
END:VCALENDAR