BEGIN:VCALENDAR
VERSION:2.0
PRODID:-//GMEX Group - ECPv6.15.15//NONSGML v1.0//EN
CALSCALE:GREGORIAN
METHOD:PUBLISH
X-WR-CALNAME:GMEX Group
X-ORIGINAL-URL:https://www.gmex-group.com
X-WR-CALDESC:Events for GMEX Group
REFRESH-INTERVAL;VALUE=DURATION:PT1H
X-Robots-Tag:noindex
X-PUBLISHED-TTL:PT1H
BEGIN:VTIMEZONE
TZID:Europe/London
BEGIN:DAYLIGHT
TZOFFSETFROM:+0000
TZOFFSETTO:+0100
TZNAME:BST
DTSTART:20240331T010000
END:DAYLIGHT
BEGIN:STANDARD
TZOFFSETFROM:+0100
TZOFFSETTO:+0000
TZNAME:GMT
DTSTART:20241027T010000
END:STANDARD
BEGIN:DAYLIGHT
TZOFFSETFROM:+0000
TZOFFSETTO:+0100
TZNAME:BST
DTSTART:20250330T010000
END:DAYLIGHT
BEGIN:STANDARD
TZOFFSETFROM:+0100
TZOFFSETTO:+0000
TZNAME:GMT
DTSTART:20251026T010000
END:STANDARD
BEGIN:DAYLIGHT
TZOFFSETFROM:+0000
TZOFFSETTO:+0100
TZNAME:BST
DTSTART:20260329T010000
END:DAYLIGHT
BEGIN:STANDARD
TZOFFSETFROM:+0100
TZOFFSETTO:+0000
TZNAME:GMT
DTSTART:20261025T010000
END:STANDARD
END:VTIMEZONE
BEGIN:VEVENT
DTSTART;VALUE=DATE:20250917
DTEND;VALUE=DATE:20250919
DTSTAMP:20260423T115524
CREATED:20250827T122612Z
LAST-MODIFIED:20250827T122612Z
UID:7142-1758067200-1758239999@www.gmex-group.com
SUMMARY:LSFI Summit – Finance for a Sustainable Future
DESCRIPTION:The 2025 LSFI Summit “Finance for a Sustainable Future”\, Luxembourg Sustainable Finance Initiative’s flagship event\, will once again bring together leading experts and practitioners to explore the evolving landscape of sustainable finance and share actionable insights on how the financial sector can navigate the sustainable finance journey. \nAs part of the LHoFT Catapult: Green Fintech 2025 Bootcamp\, ZERO13 has been invited to participate on Wednesday September 17th in the afternoon and Thursday September 18th in the morning. \nFor more information about the event\, click here
URL:https://www.gmex-group.com/event/lsfi-summit-finance-for-a-sustainable-future/
LOCATION:Neimënster Abbey\, Luxembourg
END:VEVENT
END:VCALENDAR