BEGIN:VCALENDAR
VERSION:2.0
PRODID:-//GMEX Group - ECPv6.15.15//NONSGML v1.0//EN
CALSCALE:GREGORIAN
METHOD:PUBLISH
X-WR-CALNAME:GMEX Group
X-ORIGINAL-URL:https://www.gmex-group.com
X-WR-CALDESC:Events for GMEX Group
REFRESH-INTERVAL;VALUE=DURATION:PT1H
X-Robots-Tag:noindex
X-PUBLISHED-TTL:PT1H
BEGIN:VTIMEZONE
TZID:Europe/London
BEGIN:DAYLIGHT
TZOFFSETFROM:+0000
TZOFFSETTO:+0100
TZNAME:BST
DTSTART:20230326T010000
END:DAYLIGHT
BEGIN:STANDARD
TZOFFSETFROM:+0100
TZOFFSETTO:+0000
TZNAME:GMT
DTSTART:20231029T010000
END:STANDARD
BEGIN:DAYLIGHT
TZOFFSETFROM:+0000
TZOFFSETTO:+0100
TZNAME:BST
DTSTART:20240331T010000
END:DAYLIGHT
BEGIN:STANDARD
TZOFFSETFROM:+0100
TZOFFSETTO:+0000
TZNAME:GMT
DTSTART:20241027T010000
END:STANDARD
BEGIN:DAYLIGHT
TZOFFSETFROM:+0000
TZOFFSETTO:+0100
TZNAME:BST
DTSTART:20250330T010000
END:DAYLIGHT
BEGIN:STANDARD
TZOFFSETFROM:+0100
TZOFFSETTO:+0000
TZNAME:GMT
DTSTART:20251026T010000
END:STANDARD
END:VTIMEZONE
BEGIN:VEVENT
DTSTART;TZID=Europe/London:20240527T080000
DTEND;TZID=Europe/London:20240528T170000
DTSTAMP:20260424T120346
CREATED:20240422T141056Z
LAST-MODIFIED:20240422T150423Z
UID:6161-1716796800-1716915600@www.gmex-group.com
SUMMARY:Make it in the Emirates Forum
DESCRIPTION:The third Make it in the Emirates Forum\, organised by the Ministry of Industry and Advanced Technology (MoIAT) in collaboration with the Abu Dhabi Department of Economic Development (ADDED) and ADNOC\, offers a valuable networking and knowledge exchange platform for the industrial community\, both locally and internationally. \nThe event brings together decision-makers\, government and private sector officials\, experts\, entrepreneurs\, financing entities\, investors\, startups\, and SMEs – with the primary goal of showcasing investment opportunities within the local industrial sector. \nThe Make it in the Emirates Forum launched in 2022 and has quickly become one of the region’s most prominent industrial platforms. The forum\, which includes panels\, awards and exhibitions\, aims to promote the growth of national industries and discuss opportunities for partnership and cooperation in the industrial sector\, in addition to presenting opportunities for product localisation\, redirecting the value of purchases into the national economy\, and leveraging local purchasing power to develop the industrial sector. \nClick here for more information
URL:https://www.gmex-group.com/event/make-it-in-the-emirates-forum/
LOCATION:Abu Dhabi Energy Center\, 308 Zayed The First St - Al Bateen\, Abu Dhabi\, United Arab Emirates
END:VEVENT
END:VCALENDAR