BEGIN:VCALENDAR
VERSION:2.0
PRODID:-//GMEX Group - ECPv6.15.15//NONSGML v1.0//EN
CALSCALE:GREGORIAN
METHOD:PUBLISH
X-WR-CALNAME:GMEX Group
X-ORIGINAL-URL:https://www.gmex-group.com
X-WR-CALDESC:Events for GMEX Group
REFRESH-INTERVAL;VALUE=DURATION:PT1H
X-Robots-Tag:noindex
X-PUBLISHED-TTL:PT1H
BEGIN:VTIMEZONE
TZID:Europe/London
BEGIN:DAYLIGHT
TZOFFSETFROM:+0000
TZOFFSETTO:+0100
TZNAME:BST
DTSTART:20230326T010000
END:DAYLIGHT
BEGIN:STANDARD
TZOFFSETFROM:+0100
TZOFFSETTO:+0000
TZNAME:GMT
DTSTART:20231029T010000
END:STANDARD
BEGIN:DAYLIGHT
TZOFFSETFROM:+0000
TZOFFSETTO:+0100
TZNAME:BST
DTSTART:20240331T010000
END:DAYLIGHT
BEGIN:STANDARD
TZOFFSETFROM:+0100
TZOFFSETTO:+0000
TZNAME:GMT
DTSTART:20241027T010000
END:STANDARD
BEGIN:DAYLIGHT
TZOFFSETFROM:+0000
TZOFFSETTO:+0100
TZNAME:BST
DTSTART:20250330T010000
END:DAYLIGHT
BEGIN:STANDARD
TZOFFSETFROM:+0100
TZOFFSETTO:+0000
TZNAME:GMT
DTSTART:20251026T010000
END:STANDARD
END:VTIMEZONE
BEGIN:VEVENT
DTSTART;TZID=Europe/London:20240924T083000
DTEND;TZID=Europe/London:20240924T103000
DTSTAMP:20260421T142302
CREATED:20240904T105307Z
LAST-MODIFIED:20240904T105307Z
UID:6666-1727166600-1727173800@www.gmex-group.com
SUMMARY:Overcoming Stakeholder Climate Engagement Barriers
DESCRIPTION:Held in partnership with the 79th United Nations General Assembly\, Climate Week is a pivotal time for key policy decisions. Following this year’s theme\, ‘It’s Time’\, H/Advisors is hosting a breakfast panel event titled: Overcoming stakeholder climate engagement barriers.\n\nThe session will address how businesses are now having to engage with all their stakeholders more than ever in order to achieve their climate plans\, ambitions\, requirements and pledges. And how communications play a vital role in embedding complex climate strategies and stakeholder understanding\, whilst also building trust and partnerships. \nOur expert speakers will discuss the following topics: \n\nBusinesses role in the energy transition\nWhy governments are partnering with companies to enable change\nHow AI and modern technology can help achieve Net Zero goals\nWhy strategic communication is essential to delivering on your climate strategy\nThe importance of new global non-financial reporting regulations\n\n\n  \nFor more information\,\nClick here
URL:https://www.gmex-group.com/event/overcoming-stakeholder-climate-engagement-barriers/
LOCATION:The Helmsley Building\, 230 Park Avenue\, New York\, NY\, 10017\, United States
END:VEVENT
END:VCALENDAR