BEGIN:VCALENDAR
VERSION:2.0
PRODID:-//GMEX Group - ECPv6.15.15//NONSGML v1.0//EN
CALSCALE:GREGORIAN
METHOD:PUBLISH
X-WR-CALNAME:GMEX Group
X-ORIGINAL-URL:https://www.gmex-group.com
X-WR-CALDESC:Events for GMEX Group
REFRESH-INTERVAL;VALUE=DURATION:PT1H
X-Robots-Tag:noindex
X-PUBLISHED-TTL:PT1H
BEGIN:VTIMEZONE
TZID:Europe/London
BEGIN:DAYLIGHT
TZOFFSETFROM:+0000
TZOFFSETTO:+0100
TZNAME:BST
DTSTART:20230326T010000
END:DAYLIGHT
BEGIN:STANDARD
TZOFFSETFROM:+0100
TZOFFSETTO:+0000
TZNAME:GMT
DTSTART:20231029T010000
END:STANDARD
BEGIN:DAYLIGHT
TZOFFSETFROM:+0000
TZOFFSETTO:+0100
TZNAME:BST
DTSTART:20240331T010000
END:DAYLIGHT
BEGIN:STANDARD
TZOFFSETFROM:+0100
TZOFFSETTO:+0000
TZNAME:GMT
DTSTART:20241027T010000
END:STANDARD
BEGIN:DAYLIGHT
TZOFFSETFROM:+0000
TZOFFSETTO:+0100
TZNAME:BST
DTSTART:20250330T010000
END:DAYLIGHT
BEGIN:STANDARD
TZOFFSETFROM:+0100
TZOFFSETTO:+0000
TZNAME:GMT
DTSTART:20251026T010000
END:STANDARD
END:VTIMEZONE
BEGIN:VEVENT
DTSTART;VALUE=DATE:20240625
DTEND;VALUE=DATE:20240627
DTSTAMP:20260422T112217
CREATED:20240515T125245Z
LAST-MODIFIED:20240515T125442Z
UID:6194-1719273600-1719446399@www.gmex-group.com
SUMMARY:Reset Connect London
DESCRIPTION:As the flagship event of London Climate Action Week\, Reset Connect London bridges the gap between sustainability change-makers\, business leaders\, government and funding. \nThis event provides present and future net-zero business solutions and the financing to implement them. Attendees will be able to network with decision-makers across industries\, find low-carbon solutions and innovations\, get insights and knowledge to drive sustainable strategies and explore opportunities for funding and investment. \n 
URL:https://www.gmex-group.com/event/reset-connect-london/
LOCATION:ExCel\, Royal Victoria Dock\, 1 Western Gateway\, London\, E16 1XL\, United Kingdom
END:VEVENT
END:VCALENDAR