BEGIN:VCALENDAR
VERSION:2.0
PRODID:-//GMEX Group - ECPv6.15.15//NONSGML v1.0//EN
CALSCALE:GREGORIAN
METHOD:PUBLISH
X-WR-CALNAME:GMEX Group
X-ORIGINAL-URL:https://www.gmex-group.com
X-WR-CALDESC:Events for GMEX Group
REFRESH-INTERVAL;VALUE=DURATION:PT1H
X-Robots-Tag:noindex
X-PUBLISHED-TTL:PT1H
BEGIN:VTIMEZONE
TZID:UTC
BEGIN:STANDARD
TZOFFSETFROM:+0000
TZOFFSETTO:+0000
TZNAME:UTC
DTSTART:20210101T000000
END:STANDARD
END:VTIMEZONE
BEGIN:VEVENT
DTSTART;TZID=UTC:20220608T093000
DTEND;TZID=UTC:20220608T103000
DTSTAMP:20260421T143110
CREATED:20220516T074119Z
LAST-MODIFIED:20220516T074119Z
UID:5193-1654680600-1654684200@www.gmex-group.com
SUMMARY:The AFM Annual Conference
DESCRIPTION:Our CEO\, Hirander Misra will be moderating Roundtable 1 at 09:30 BST at the Association of Futures Market (AFM) Annual Conference called\, “The Future of Exchanges\, Products and Services of Tomorrow; Trends in exchange market developments\, Customer/User Experiences in new processes \, Efficiency Improvement– Digital Transformation.” \nHe will also be speaking on Roundtable 2  called\, “New Products: Crypto Contracts and Low Carbon Emission Contracts – What Opportunities for Emerging Markets?” \nFor the other panelists and full agenda\, please click here
URL:https://www.gmex-group.com/event/the-afm-annual-conference/
END:VEVENT
END:VCALENDAR