BEGIN:VCALENDAR
VERSION:2.0
PRODID:-//GMEX Group - ECPv6.15.15//NONSGML v1.0//EN
CALSCALE:GREGORIAN
METHOD:PUBLISH
X-WR-CALNAME:GMEX Group
X-ORIGINAL-URL:https://www.gmex-group.com
X-WR-CALDESC:Events for GMEX Group
REFRESH-INTERVAL;VALUE=DURATION:PT1H
X-Robots-Tag:noindex
X-PUBLISHED-TTL:PT1H
BEGIN:VTIMEZONE
TZID:Europe/London
BEGIN:DAYLIGHT
TZOFFSETFROM:+0000
TZOFFSETTO:+0100
TZNAME:BST
DTSTART:20230326T010000
END:DAYLIGHT
BEGIN:STANDARD
TZOFFSETFROM:+0100
TZOFFSETTO:+0000
TZNAME:GMT
DTSTART:20231029T010000
END:STANDARD
BEGIN:DAYLIGHT
TZOFFSETFROM:+0000
TZOFFSETTO:+0100
TZNAME:BST
DTSTART:20240331T010000
END:DAYLIGHT
BEGIN:STANDARD
TZOFFSETFROM:+0100
TZOFFSETTO:+0000
TZNAME:GMT
DTSTART:20241027T010000
END:STANDARD
BEGIN:DAYLIGHT
TZOFFSETFROM:+0000
TZOFFSETTO:+0100
TZNAME:BST
DTSTART:20250330T010000
END:DAYLIGHT
BEGIN:STANDARD
TZOFFSETFROM:+0100
TZOFFSETTO:+0000
TZNAME:GMT
DTSTART:20251026T010000
END:STANDARD
END:VTIMEZONE
BEGIN:VEVENT
DTSTART;VALUE=DATE:20240227
DTEND;VALUE=DATE:20240228
DTSTAMP:20260421T124756
CREATED:20240226T105933Z
LAST-MODIFIED:20240226T105933Z
UID:6096-1708992000-1709078399@www.gmex-group.com
SUMMARY:TradeTech Forum
DESCRIPTION:Hosted by the World Economic Forum\, the UAE Ministry of Economy\, and the Abu Dhabi Department of Economic Development\, the inaugural TradeTech Forum aims to be a groundbreaking platform for facilitating global innovation in the realm of international trade technologies. This event will bring together 150 of the world’s foremost trade leaders and experts\, ranging from trade officials and logistics providers to investors and academics\, offering a unique opportunity to discuss\, network\, and pave the way for a technologically advanced trade environment. \nClick here for more information
URL:https://www.gmex-group.com/event/tradetech-forum/
LOCATION:Abu Dhabi National Exhibition Centre (ADNEC Centre)\, Khaleej Al Arabi Street\, Abu Dhabi\, United Arab Emirates
END:VEVENT
END:VCALENDAR