BEGIN:VCALENDAR
VERSION:2.0
PRODID:-//GMEX Group - ECPv6.15.15//NONSGML v1.0//EN
CALSCALE:GREGORIAN
METHOD:PUBLISH
X-WR-CALNAME:GMEX Group
X-ORIGINAL-URL:https://www.gmex-group.com
X-WR-CALDESC:Events for GMEX Group
REFRESH-INTERVAL;VALUE=DURATION:PT1H
X-Robots-Tag:noindex
X-PUBLISHED-TTL:PT1H
BEGIN:VTIMEZONE
TZID:Europe/London
BEGIN:DAYLIGHT
TZOFFSETFROM:+0000
TZOFFSETTO:+0100
TZNAME:BST
DTSTART:20210328T010000
END:DAYLIGHT
BEGIN:STANDARD
TZOFFSETFROM:+0100
TZOFFSETTO:+0000
TZNAME:GMT
DTSTART:20211031T010000
END:STANDARD
BEGIN:DAYLIGHT
TZOFFSETFROM:+0000
TZOFFSETTO:+0100
TZNAME:BST
DTSTART:20220327T010000
END:DAYLIGHT
BEGIN:STANDARD
TZOFFSETFROM:+0100
TZOFFSETTO:+0000
TZNAME:GMT
DTSTART:20221030T010000
END:STANDARD
BEGIN:DAYLIGHT
TZOFFSETFROM:+0000
TZOFFSETTO:+0100
TZNAME:BST
DTSTART:20230326T010000
END:DAYLIGHT
BEGIN:STANDARD
TZOFFSETFROM:+0100
TZOFFSETTO:+0000
TZNAME:GMT
DTSTART:20231029T010000
END:STANDARD
END:VTIMEZONE
BEGIN:VEVENT
DTSTART;TZID=Europe/London:20221123T170000
DTEND;TZID=Europe/London:20221123T200000
DTSTAMP:20260421T143352
CREATED:20220915T115001Z
LAST-MODIFIED:20220915T115001Z
UID:5421-1669222800-1669233600@www.gmex-group.com
SUMMARY:TradFi DeFi Era of Convergence Documentary Premiere Event
DESCRIPTION:The upcoming Era of Convergence Documentary will explore the rise of Bitcoin\, and the subsequent impact it has had on traditional finance. Hosted by Toby Babb\, CEO and Founder of Harrington Starr and Helen Disney\, Founder of The Realization Group\, this documentary explores the opportunities created from the merger between Traditional Finance and Decentralised Finance\, who will shape this Era of Convergence and more.\n\nSince the days of grain merchants acting like banks through to today’s global banks\, centralised organisations have evolved to allow us to trade and transact in a trusted manner.\n\nBut when financial markets crashed in 2008\, giving rise to a global credit crunch\, something changed. While bankers emptied out their desks\, a pseudonymous individual – or group – known as Satoshi Nakamoto was busy publishing a short document which would go on to change the world.\n\nThe white paper\, entitled ‘Bitcoin: A Peer-to-Peer Electronic Cash System\,’ described a means of transacting that would do away with the need for banks and middlemen. With this new form of digital currency – or cryptocurrency – anyone\, anywhere could now exchange money in a decentralised way; peer-to-peer.\n\nThe birth of bitcoin was revolutionary on two fronts; giving rise to the birth of thousands of cryptocurrencies\, all with different features and benefits\, and sparking waves of innovation in the infrastructure of finance.\n\nThe upcoming Era of Convergence Documentary will explore the rise of Bitcoin\, and the subsequent impact it has had on traditional finance.\n\nFor more information\,\nClick here
URL:https://www.gmex-group.com/event/tradfi-defi-era-of-convergence-documentary-premiere-event/
LOCATION:CMS\, 78 Cannon Street\, London\, EC4N 6AF\, United Kingdom
END:VEVENT
END:VCALENDAR