BEGIN:VCALENDAR
VERSION:2.0
PRODID:-//GMEX Group - ECPv6.15.15//NONSGML v1.0//EN
CALSCALE:GREGORIAN
METHOD:PUBLISH
X-WR-CALNAME:GMEX Group
X-ORIGINAL-URL:https://www.gmex-group.com
X-WR-CALDESC:Events for GMEX Group
REFRESH-INTERVAL;VALUE=DURATION:PT1H
X-Robots-Tag:noindex
X-PUBLISHED-TTL:PT1H
BEGIN:VTIMEZONE
TZID:Europe/London
BEGIN:DAYLIGHT
TZOFFSETFROM:+0000
TZOFFSETTO:+0100
TZNAME:BST
DTSTART:20230326T010000
END:DAYLIGHT
BEGIN:STANDARD
TZOFFSETFROM:+0100
TZOFFSETTO:+0000
TZNAME:GMT
DTSTART:20231029T010000
END:STANDARD
BEGIN:DAYLIGHT
TZOFFSETFROM:+0000
TZOFFSETTO:+0100
TZNAME:BST
DTSTART:20240331T010000
END:DAYLIGHT
BEGIN:STANDARD
TZOFFSETFROM:+0100
TZOFFSETTO:+0000
TZNAME:GMT
DTSTART:20241027T010000
END:STANDARD
BEGIN:DAYLIGHT
TZOFFSETFROM:+0000
TZOFFSETTO:+0100
TZNAME:BST
DTSTART:20250330T010000
END:DAYLIGHT
BEGIN:STANDARD
TZOFFSETFROM:+0100
TZOFFSETTO:+0000
TZNAME:GMT
DTSTART:20251026T010000
END:STANDARD
END:VTIMEZONE
BEGIN:VEVENT
DTSTART;TZID=Europe/London:20240910T113000
DTEND;TZID=Europe/London:20240910T130000
DTSTAMP:20260421T142417
CREATED:20240812T140735Z
LAST-MODIFIED:20240828T115449Z
UID:6629-1725967800-1725973200@www.gmex-group.com
SUMMARY:Webinar: Unlocking the Future of Carbon Markets
DESCRIPTION:The World Economic Forum reports a staggering $4-5 trillion climate financing gap impeding our progress towards a climate-resilient future. This gap persists largely due to fragmented\, siloed\, and analogue approaches that hinder financial capacity building. A recent report by Carbon Market Watch reveals a significant imbalance in the global carbon project landscape after analysing 69 carbon projects (30 global\, 39 in Africa). Of 101 companies working on African projects\, 62% based in countries with ‘very high human development’\, with only 15% headquartered in ‘low human development’ countries\, and less than 28% of companies were from African countries. These findings underscore the urgent need for a more equitable distribution of carbon market benefits and will form a central part of our discussion. \nJoin CETFI and ZERO13 for an insightful webinar exploring how the convergence of impact\, finance\, and technology is pivotal in constructing the future of finance and sustainability with integrity\, trust\, and confidence. Central to our discussion is the synergy of risk\, return\, technology\, and impact – a crucial combination if we are to successfully bridge the climate finance gap and address the geographical imbalances in the carbon market. \nKey discussion points on the agenda:\n▸ Innovative approaches reshaping investment\, trading\, and settlement in both voluntary and compliance markets\, that address critical issues of transparency\, equity\, and efficiency;\n▸ Different types of carbon credit instruments such as VCCs (voluntary carbon credits) and ITMOs (internationally transferred mitigation outcomes);\n▸ The use of alternative financing tools for climate projects such green bonds\, structured products and derivatives\, including forward carbon credits with more transparent pricing and indexation;\n▸ A ‘source to sale’ digital approach using dMRV\, AI and blockchain for a seamless digital journey from credit generation to retirement;\n▸ Market interoperability to bridge traditional and digital approaches (hybrid models);\n▸ Strategies for breaking down market silos and standardisation efforts to enhance cross-market compatibility\n▸ Price disparities between developed and developing nation credits and its implications for local community benefits;\n▸ Emerging trends in carbon credit markets and opportunities for market participants in the evolving landscape. \nThis event is open for carbon market professionals and investors\, policy makers and regulators\, climate finance experts\, and industry leaders interested in innovative and equitable approaches to climate finance. \nTo register for the webinar\,\nClick here
URL:https://www.gmex-group.com/event/webinar-unlocking-the-future-of-carbon-markets/
END:VEVENT
END:VCALENDAR