BEGIN:VCALENDAR
VERSION:2.0
PRODID:-//GMEX Group - ECPv6.15.15//NONSGML v1.0//EN
CALSCALE:GREGORIAN
METHOD:PUBLISH
X-WR-CALNAME:GMEX Group
X-ORIGINAL-URL:https://www.gmex-group.com
X-WR-CALDESC:Events for GMEX Group
REFRESH-INTERVAL;VALUE=DURATION:PT1H
X-Robots-Tag:noindex
X-PUBLISHED-TTL:PT1H
BEGIN:VTIMEZONE
TZID:Europe/London
BEGIN:DAYLIGHT
TZOFFSETFROM:+0000
TZOFFSETTO:+0100
TZNAME:BST
DTSTART:20230326T010000
END:DAYLIGHT
BEGIN:STANDARD
TZOFFSETFROM:+0100
TZOFFSETTO:+0000
TZNAME:GMT
DTSTART:20231029T010000
END:STANDARD
BEGIN:DAYLIGHT
TZOFFSETFROM:+0000
TZOFFSETTO:+0100
TZNAME:BST
DTSTART:20240331T010000
END:DAYLIGHT
BEGIN:STANDARD
TZOFFSETFROM:+0100
TZOFFSETTO:+0000
TZNAME:GMT
DTSTART:20241027T010000
END:STANDARD
BEGIN:DAYLIGHT
TZOFFSETFROM:+0000
TZOFFSETTO:+0100
TZNAME:BST
DTSTART:20250330T010000
END:DAYLIGHT
BEGIN:STANDARD
TZOFFSETFROM:+0100
TZOFFSETTO:+0000
TZNAME:GMT
DTSTART:20251026T010000
END:STANDARD
END:VTIMEZONE
BEGIN:VEVENT
DTSTART;TZID=Europe/London:20240626T140000
DTEND;TZID=Europe/London:20240626T160000
DTSTAMP:20260421T125214
CREATED:20240612T184208Z
LAST-MODIFIED:20240612T184208Z
UID:6233-1719410400-1719417600@www.gmex-group.com
SUMMARY:What do stock exchanges need to survive the tokenisation of everything?
DESCRIPTION:Stock exchanges are now at that point in the industry lifecycle where many companies are offering new ways of raising capital and trading financial assets that are compelling enough to be certain of success. What follows is not hard to predict: a period of consolidation as the successful outperform the unsuccessful. This webinar will explore the ingredients of success. \nThe webinar will explore the following topics: \n\n\n\nWhat is the nature of the strategic threats that confront established exchanges?\nHow can the various types of exchange best be categorised and understood as service providers and competitors?\nWhat do regulators want from exchanges?\nWhat does the buy-side want from exchanges?\nWhat do issuers want from exchanges?\nWhat are traditional stock exchanges doing about tokenisation now?\nWhich trading products and services must exchanges provide to improve their chances of survival?\nWhich non-trading products and services must exchanges provide to improve their chances of survival?\nWhat are the most reliable sources of revenue for exchanges in the future?\nWhat type of exchange is best-adapted to survive a period of potentially revolutionary change?\n\n\n\nPanellists include: \nMarco Kessler\, Member of the Executive Board and Head of Digital Securities at SDX\nHirander Misra\, Chairman and CEO at GMEX Group\nRicardo Correia\, Partner at Bain and Company\nMiryusup Abdullaev\, Managing Director – Deutsche Börse Digital Exchange (DBDX) \n  \n 
URL:https://www.gmex-group.com/event/what-do-stock-exchanges-need-to-survive-the-tokenisation-of-everything/
END:VEVENT
END:VCALENDAR