BEGIN:VCALENDAR
VERSION:2.0
PRODID:-//GMEX Group - ECPv6.15.15//NONSGML v1.0//EN
CALSCALE:GREGORIAN
METHOD:PUBLISH
X-WR-CALNAME:GMEX Group
X-ORIGINAL-URL:https://www.gmex-group.com
X-WR-CALDESC:Events for GMEX Group
REFRESH-INTERVAL;VALUE=DURATION:PT1H
X-Robots-Tag:noindex
X-PUBLISHED-TTL:PT1H
BEGIN:VTIMEZONE
TZID:Europe/London
BEGIN:DAYLIGHT
TZOFFSETFROM:+0000
TZOFFSETTO:+0100
TZNAME:BST
DTSTART:20230326T010000
END:DAYLIGHT
BEGIN:STANDARD
TZOFFSETFROM:+0100
TZOFFSETTO:+0000
TZNAME:GMT
DTSTART:20231029T010000
END:STANDARD
BEGIN:DAYLIGHT
TZOFFSETFROM:+0000
TZOFFSETTO:+0100
TZNAME:BST
DTSTART:20240331T010000
END:DAYLIGHT
BEGIN:STANDARD
TZOFFSETFROM:+0100
TZOFFSETTO:+0000
TZNAME:GMT
DTSTART:20241027T010000
END:STANDARD
BEGIN:DAYLIGHT
TZOFFSETFROM:+0000
TZOFFSETTO:+0100
TZNAME:BST
DTSTART:20250330T010000
END:DAYLIGHT
BEGIN:STANDARD
TZOFFSETFROM:+0100
TZOFFSETTO:+0000
TZNAME:GMT
DTSTART:20251026T010000
END:STANDARD
END:VTIMEZONE
BEGIN:VEVENT
DTSTART;TZID=Europe/London:20240708T140000
DTEND;TZID=Europe/London:20240708T180000
DTSTAMP:20260421T123801
CREATED:20240612T183124Z
LAST-MODIFIED:20240612T183124Z
UID:6230-1720447200-1720461600@www.gmex-group.com
SUMMARY:What does good look like in global climate markets?
DESCRIPTION:This roundtable event\, organised by ZERO13\, IOSS and Dicree\, will encompass thought-provoking discussions and valuable networking opportunities as it delves into what ‘good’ looks like and how it will drive opportunities and challenges associated with climate markets and sustainability ecosystems. \nThe event will focus on: \n\nDiscussing investment opportunities\, expectations and trends in the climate and sustainability space\nLeveraging decentralised thinking\, digital finance and tokenisation to deliver climate resilience\nIntegrating climate risk and sustainability principles within financial operations\nNavigating and understanding regulatory frameworks and the increasing importance of integrity and trust\nFostering and implementing collaborations between ClimateTech companies\, FinTech companies\, technology infrastructure firms\, traditional financial institutions and policymakers\nClimate market democratisation through clarity of knowledge and process\n\nOur preeminent and esteemed industry experts and global thought leaders will share their insights and innovative solutions that are driving green finance and discuss how digital technologies can pave the way for a more sustainable future. From aligning financial products with UN SDGs and investor expectations to bridge the climate finance gap\, to addressing global challenges such as climate change and economic resilience\, this event promises to deliver valuable insights and actionable strategies.
URL:https://www.gmex-group.com/event/what-does-good-look-like-in-global-climate-markets/
LOCATION:Asiawide Industrial Building\, 5 Pereira Rd\, Asiawide Industrial Building\, 368025\, Singapore
END:VEVENT
END:VCALENDAR