BEGIN:VCALENDAR
VERSION:2.0
PRODID:-//GMEX Group - ECPv6.15.15//NONSGML v1.0//EN
CALSCALE:GREGORIAN
METHOD:PUBLISH
X-WR-CALNAME:GMEX Group
X-ORIGINAL-URL:https://www.gmex-group.com
X-WR-CALDESC:Events for GMEX Group
REFRESH-INTERVAL;VALUE=DURATION:PT1H
X-Robots-Tag:noindex
X-PUBLISHED-TTL:PT1H
BEGIN:VTIMEZONE
TZID:Europe/London
BEGIN:DAYLIGHT
TZOFFSETFROM:+0000
TZOFFSETTO:+0100
TZNAME:BST
DTSTART:20240331T010000
END:DAYLIGHT
BEGIN:STANDARD
TZOFFSETFROM:+0100
TZOFFSETTO:+0000
TZNAME:GMT
DTSTART:20241027T010000
END:STANDARD
BEGIN:DAYLIGHT
TZOFFSETFROM:+0000
TZOFFSETTO:+0100
TZNAME:BST
DTSTART:20250330T010000
END:DAYLIGHT
BEGIN:STANDARD
TZOFFSETFROM:+0100
TZOFFSETTO:+0000
TZNAME:GMT
DTSTART:20251026T010000
END:STANDARD
BEGIN:DAYLIGHT
TZOFFSETFROM:+0000
TZOFFSETTO:+0100
TZNAME:BST
DTSTART:20260329T010000
END:DAYLIGHT
BEGIN:STANDARD
TZOFFSETFROM:+0100
TZOFFSETTO:+0000
TZNAME:GMT
DTSTART:20261025T010000
END:STANDARD
END:VTIMEZONE
BEGIN:VEVENT
DTSTART;VALUE=DATE:20251215
DTEND;VALUE=DATE:20251217
DTSTAMP:20260422T164015
CREATED:20251112T142313Z
LAST-MODIFIED:20251112T142313Z
UID:7274-1765756800-1765929599@www.gmex-group.com
SUMMARY:4th Regular Meeting of the Green & Sustainable Finance Network in Arab Countries
DESCRIPTION:Organised by the Arab Monetary Fund and the Council of Arab Central Banks and Monetary Authorities Governors\, the main objective of this meeting is to explore various aspects of green and sustainable finance\, covering key topics such as related regulations\, financial instruments\, carbon credits\, and both regional and international coordination. Anticipated attendees include experts from regulatory authorities across Arab countries—representatives from central banks\, ministries of finance\, and capital market authorities—totalling around 40 to 50 participants. \nOur Chairman & CEO Hirander Misra has been invited to join the event and deliver a presentation during the session titled “Scaling & Activating Carbon Markets in the Arab Region”\, followed by an interactive question-and-answer session.
URL:https://www.gmex-group.com/event/4th-regular-meeting-of-the-green-sustainable-finance-network-in-arab-countries/
LOCATION:Le Royal Méridien\, Abu Dhabi
END:VEVENT
END:VCALENDAR