BEGIN:VCALENDAR
VERSION:2.0
PRODID:-//GMEX Group - ECPv6.15.15//NONSGML v1.0//EN
CALSCALE:GREGORIAN
METHOD:PUBLISH
X-WR-CALNAME:GMEX Group
X-ORIGINAL-URL:https://www.gmex-group.com
X-WR-CALDESC:Events for GMEX Group
REFRESH-INTERVAL;VALUE=DURATION:PT1H
X-Robots-Tag:noindex
X-PUBLISHED-TTL:PT1H
BEGIN:VTIMEZONE
TZID:Europe/London
BEGIN:DAYLIGHT
TZOFFSETFROM:+0000
TZOFFSETTO:+0100
TZNAME:BST
DTSTART:20250330T010000
END:DAYLIGHT
BEGIN:STANDARD
TZOFFSETFROM:+0100
TZOFFSETTO:+0000
TZNAME:GMT
DTSTART:20251026T010000
END:STANDARD
BEGIN:DAYLIGHT
TZOFFSETFROM:+0000
TZOFFSETTO:+0100
TZNAME:BST
DTSTART:20260329T010000
END:DAYLIGHT
BEGIN:STANDARD
TZOFFSETFROM:+0100
TZOFFSETTO:+0000
TZNAME:GMT
DTSTART:20261025T010000
END:STANDARD
BEGIN:DAYLIGHT
TZOFFSETFROM:+0000
TZOFFSETTO:+0100
TZNAME:BST
DTSTART:20270328T010000
END:DAYLIGHT
BEGIN:STANDARD
TZOFFSETFROM:+0100
TZOFFSETTO:+0000
TZNAME:GMT
DTSTART:20271031T010000
END:STANDARD
END:VTIMEZONE
BEGIN:VEVENT
DTSTART;VALUE=DATE:20260126
DTEND;VALUE=DATE:20260130
DTSTAMP:20260422T201740
CREATED:20260123T145853Z
LAST-MODIFIED:20260123T145853Z
UID:7348-1769385600-1769731199@www.gmex-group.com
SUMMARY:Gulfood World Economy Summit
DESCRIPTION:Launching at Gulfood 2026\, the inaugural Gulfood World Economy Summit will be the global command centre for food security\, trade diplomacy\, and economic resilience. Over four decisive days\, it will convene ministers\, policymakers\, CEOs\, global institutions\, and industry visionaries to confront the forces reshaping how nations source\, secure\, and stabilise their food futures. With food systems now central to the UNFSS+4 and COP30 agendas\, the Summit will tackle the urgent need for transparent\, climate-smart\, cyber-resilient value chains that can withstand volatility and deliver long-term security. \nOur Chairman & CEO Hirander Misra has been invited to speak on a panel: “Climate Sustainability and the Green Food Economy: Building Resilient Food Ecosystems and Networks”. The race to decarbonize food systems is on. Circular food systems\, green supply chains\, decarbonization strategies\, and climate-smart agriculture leads to sustainable food practices. This panel explores how climate-smart practices and regenerative agriculture can transform global food production while respecting planetary boundaries. \nKey topics:\n▸ Strategies for scaling low-carbon supply chains\, aligning with COP30 goals\, and creating resilient systems that balance profitability with sustainability\n▸ Scaling regenerative food systems for a low-carbon future\n▸ Agricultural Biotech: the next frontier in sustainable farming\n▸ Understanding how organizations embed sustainability into operations and production while balancing cost efficiency and outcome: Accelerating Sustainable food practices to shape the future of our food industry\n▸ Sustainable supply chains: Developing innovative and collaborative solutions to ensure food supply continuity and minimize climate impact\n▸ Policy‑to‑practice: Decarbonising supply chains and accelerating the green transition\n▸ Initiatives that promote a circular economy in reducing food waste and loss and improve sustainability through partnerships and technologies \nFor more information\, click here
URL:https://www.gmex-group.com/event/gulfood-world-economy-summit/
LOCATION:Dubai Exhibition Centre
END:VEVENT
BEGIN:VEVENT
DTSTART;VALUE=DATE:20260420
DTEND;VALUE=DATE:20260422
DTSTAMP:20260422T201740
CREATED:20260123T150136Z
LAST-MODIFIED:20260123T150136Z
UID:7353-1776643200-1776815999@www.gmex-group.com
SUMMARY:Commonwealth Trade & Investment Summit 2026
DESCRIPTION:The fifth edition of the Commonwealth Trade and Investment Summit will be held on 20th and 21st April\, 2026\, at the City of London’s historic Mansion House. CWEIC will convene Heads of Government\, Ministers\, and senior business leaders from across the Commonwealth for two days of discussion and networking at the highest level. \nThe 56 countries of the Commonwealth offer a unique platform for collaboration – connected by common institutions\, shared legal traditions\, and a rapidly expanding consumer base. With a population of 2.7 billion and some of the world’s most dynamic emerging markets\, the Commonwealth’s scale and diversity create significant opportunities for innovation\, investment\, and economic partnership. \nUnder the theme “Commonwealth Solutions to Global Challenges\,” CTIS 2026 will convene leaders from government\, business\, finance\, and technology for two days of strategic discussions. The programme will examine issues such as the future of AI\, sustainable energy transitions\, infrastructure investment\, health technologies\, creative industries\, and the evolving global financial landscape. The Summit will also host closed-door roundtables designed to encourage robust dialogue and practical problem-solving. \nOur Chairman & CEO Hirander Misra will have the honour of delivering a keynote speech\, as well as have a fireside chat with Samantha Cohen CVO OBE\, CEO of Commonwealth Enterprise and Investment Council. \nFor more information\, click here
URL:https://www.gmex-group.com/event/commonwealth-trade-investment-summit-2026/
LOCATION:The Mansion House\, London\, EC4N 8BH\, United Kingdom
END:VEVENT
BEGIN:VEVENT
DTSTART;VALUE=DATE:20260520
DTEND;VALUE=DATE:20260522
DTSTAMP:20260422T201740
CREATED:20260306T121541Z
LAST-MODIFIED:20260306T121541Z
UID:7389-1779235200-1779407999@www.gmex-group.com
SUMMARY:Global Growth Conference 2026
DESCRIPTION:The Global Growth Conference (GGC) 2026\, organised by the Amadeus Institute\, will be held in Rabat\, Morocco under the theme: “Structuring Growth: Turning Uncertainty into Opportunity”. \nIn a global environment marked by geopolitical fragmentation\, trade tensions and the reconfiguration of value chains\, the issue of growth has become particularly critical for Africa and the Global South. Beyond access to financing\, the challenge today lies in structuring sustainable\, productive and resilient growth trajectories. \nThe Global Growth Conference 2026 builds directly on the outcomes of GGC 2025\, which led to the adoption of the Rabat Roadmap on Financing Growth and Energy Transition. This roadmap now serves as a reference framework to support practical discussions and the structuring of concrete growth pathways\, particularly for Africa. \nInspired by the Vision of His Majesty King Mohammed VI\, the GGC 2026 will focus on key priorities\, including: \n\nFinancing and structuring growth in Africa;\nValue chains\, productive investment and industrial development;\nEnergy\, resources and transition as drivers of resilience;\nMorocco’s role as a trusted hub for stability\, investment and partnerships connecting Africa with global markets.\n\nThe GGC 2026 will bring together over 100 high-level speakers and more than 1\,000 participants from over 50 countries\, including senior policymakers\, international financial institutions\, investors and private-sector leaders. \nHirander Misra\, our Chairman & CEO\, has been invited to participate in “The Discussion 5: AI\, Data Centers & Cloud Infrastructure: The Backbone of Digital Sovereignty”\, Thursday 21st May at 2:00 PM. \nFor more information\, click here
URL:https://www.gmex-group.com/event/global-growth-conference-2026/
LOCATION:Rabat\, Morocco
END:VEVENT
END:VCALENDAR